BEGIN:VCALENDAR
VERSION:2.0
PRODID:-//Fish Creek Kids Academy - ECPv6.15.20//NONSGML v1.0//EN
CALSCALE:GREGORIAN
METHOD:PUBLISH
X-WR-CALNAME:Fish Creek Kids Academy
X-ORIGINAL-URL:https://fishcreekkidsacademy.com
X-WR-CALDESC:Events for Fish Creek Kids Academy
REFRESH-INTERVAL;VALUE=DURATION:PT1H
X-Robots-Tag:noindex
X-PUBLISHED-TTL:PT1H
BEGIN:VTIMEZONE
TZID:America/Chicago
BEGIN:DAYLIGHT
TZOFFSETFROM:-0600
TZOFFSETTO:-0500
TZNAME:CDT
DTSTART:20250309T080000
END:DAYLIGHT
BEGIN:STANDARD
TZOFFSETFROM:-0500
TZOFFSETTO:-0600
TZNAME:CST
DTSTART:20251102T070000
END:STANDARD
BEGIN:DAYLIGHT
TZOFFSETFROM:-0600
TZOFFSETTO:-0500
TZNAME:CDT
DTSTART:20260308T080000
END:DAYLIGHT
BEGIN:STANDARD
TZOFFSETFROM:-0500
TZOFFSETTO:-0600
TZNAME:CST
DTSTART:20261101T070000
END:STANDARD
BEGIN:DAYLIGHT
TZOFFSETFROM:-0600
TZOFFSETTO:-0500
TZNAME:CDT
DTSTART:20270314T080000
END:DAYLIGHT
BEGIN:STANDARD
TZOFFSETFROM:-0500
TZOFFSETTO:-0600
TZNAME:CST
DTSTART:20271107T070000
END:STANDARD
END:VTIMEZONE
BEGIN:VEVENT
DTSTART;VALUE=DATE:20260423
DTEND;VALUE=DATE:20260424
DTSTAMP:20260423T043637
CREATED:20260320T213032Z
LAST-MODIFIED:20260320T213032Z
UID:15270-1776902400-1776988799@fishcreekkidsacademy.com
SUMMARY:🧺National Picnic Day
DESCRIPTION:
URL:https://fishcreekkidsacademy.com/event/%f0%9f%a7%banational-picnic-day/
CATEGORIES:FCKA Events
END:VEVENT
BEGIN:VEVENT
DTSTART;TZID=America/Chicago:20260423T103000
DTEND;TZID=America/Chicago:20260423T110000
DTSTAMP:20260423T043637
CREATED:20260320T205933Z
LAST-MODIFIED:20260320T205933Z
UID:15262-1776940200-1776942000@fishcreekkidsacademy.com
SUMMARY:🏀Teams of Tomorrow (TOT)
DESCRIPTION:
URL:https://fishcreekkidsacademy.com/event/%f0%9f%8f%80teams-of-tomorrow-tot-16/
CATEGORIES:FCKA Events
END:VEVENT
END:VCALENDAR