BEGIN:VCALENDAR
VERSION:2.0
PRODID:-//Fish Creek Kids Academy - ECPv6.15.20//NONSGML v1.0//EN
CALSCALE:GREGORIAN
METHOD:PUBLISH
X-ORIGINAL-URL:https://fishcreekkidsacademy.com
X-WR-CALDESC:Events for Fish Creek Kids Academy
REFRESH-INTERVAL;VALUE=DURATION:PT1H
X-Robots-Tag:noindex
X-PUBLISHED-TTL:PT1H
BEGIN:VTIMEZONE
TZID:America/Chicago
BEGIN:DAYLIGHT
TZOFFSETFROM:-0600
TZOFFSETTO:-0500
TZNAME:CDT
DTSTART:20230312T080000
END:DAYLIGHT
BEGIN:STANDARD
TZOFFSETFROM:-0500
TZOFFSETTO:-0600
TZNAME:CST
DTSTART:20231105T070000
END:STANDARD
BEGIN:DAYLIGHT
TZOFFSETFROM:-0600
TZOFFSETTO:-0500
TZNAME:CDT
DTSTART:20240310T080000
END:DAYLIGHT
BEGIN:STANDARD
TZOFFSETFROM:-0500
TZOFFSETTO:-0600
TZNAME:CST
DTSTART:20241103T070000
END:STANDARD
BEGIN:DAYLIGHT
TZOFFSETFROM:-0600
TZOFFSETTO:-0500
TZNAME:CDT
DTSTART:20250309T080000
END:DAYLIGHT
BEGIN:STANDARD
TZOFFSETFROM:-0500
TZOFFSETTO:-0600
TZNAME:CST
DTSTART:20251102T070000
END:STANDARD
END:VTIMEZONE
BEGIN:VEVENT
DTSTART;VALUE=DATE:20240422
DTEND;VALUE=DATE:20240423
DTSTAMP:20260420T231911
CREATED:20240403T160415Z
LAST-MODIFIED:20240403T160415Z
UID:12833-1713744000-1713830399@fishcreekkidsacademy.com
SUMMARY:Theme: Natural Resources
DESCRIPTION:
URL:https://fishcreekkidsacademy.com/event/theme-natural-resources/
CATEGORIES:FCKA Events
END:VEVENT
BEGIN:VEVENT
DTSTART;VALUE=DATE:20240423
DTEND;VALUE=DATE:20240424
DTSTAMP:20260420T231911
CREATED:20240403T155420Z
LAST-MODIFIED:20240403T155420Z
UID:12799-1713830400-1713916799@fishcreekkidsacademy.com
SUMMARY:Picnic Time
DESCRIPTION:
URL:https://fishcreekkidsacademy.com/event/picnic-time/
CATEGORIES:FCKA Events
END:VEVENT
BEGIN:VEVENT
DTSTART;TZID=America/Chicago:20240423T103000
DTEND;TZID=America/Chicago:20240423T110000
DTSTAMP:20260420T231911
CREATED:20240403T154748Z
LAST-MODIFIED:20240403T154748Z
UID:12793-1713868200-1713870000@fishcreekkidsacademy.com
SUMMARY:Dance Your Heart Out
DESCRIPTION:
URL:https://fishcreekkidsacademy.com/event/dance-your-heart-out-20/
CATEGORIES:FCKA Events
END:VEVENT
BEGIN:VEVENT
DTSTART;TZID=America/Chicago:20240424T090000
DTEND;TZID=America/Chicago:20240424T103000
DTSTAMP:20260420T231911
CREATED:20240403T155649Z
LAST-MODIFIED:20240403T155649Z
UID:12807-1713949200-1713954600@fishcreekkidsacademy.com
SUMMARY:Soccer Shots
DESCRIPTION:
URL:https://fishcreekkidsacademy.com/event/soccer-shots-24/
CATEGORIES:FCKA Events
END:VEVENT
BEGIN:VEVENT
DTSTART;TZID=America/Chicago:20240426T100000
DTEND;TZID=America/Chicago:20240426T101500
DTSTAMP:20260420T231911
CREATED:20240403T160226Z
LAST-MODIFIED:20240403T160226Z
UID:12825-1714125600-1714126500@fishcreekkidsacademy.com
SUMMARY:Assembly
DESCRIPTION:
URL:https://fishcreekkidsacademy.com/event/assembly-27/
CATEGORIES:FCKA Events
END:VEVENT
BEGIN:VEVENT
DTSTART;VALUE=DATE:20240429
DTEND;VALUE=DATE:20240430
DTSTAMP:20260420T231911
CREATED:20240403T160451Z
LAST-MODIFIED:20240403T160451Z
UID:12835-1714348800-1714435199@fishcreekkidsacademy.com
SUMMARY:Super Hero Dress Up
DESCRIPTION:
URL:https://fishcreekkidsacademy.com/event/super-hero-dress-up/
CATEGORIES:FCKA Events
END:VEVENT
BEGIN:VEVENT
DTSTART;VALUE=DATE:20240429
DTEND;VALUE=DATE:20240430
DTSTAMP:20260420T231911
CREATED:20240403T160518Z
LAST-MODIFIED:20240403T160518Z
UID:12837-1714348800-1714435199@fishcreekkidsacademy.com
SUMMARY:Theme: Land Formations
DESCRIPTION:
URL:https://fishcreekkidsacademy.com/event/theme-land-formations/
CATEGORIES:FCKA Events
END:VEVENT
BEGIN:VEVENT
DTSTART;VALUE=DATE:20240430
DTEND;VALUE=DATE:20240501
DTSTAMP:20260420T231911
CREATED:20240403T154909Z
LAST-MODIFIED:20240403T154909Z
UID:12797-1714435200-1714521599@fishcreekkidsacademy.com
SUMMARY:Zipper Day
DESCRIPTION:
URL:https://fishcreekkidsacademy.com/event/zipper-day/
CATEGORIES:FCKA Events
END:VEVENT
BEGIN:VEVENT
DTSTART;TZID=America/Chicago:20240430T103000
DTEND;TZID=America/Chicago:20240430T110000
DTSTAMP:20260420T231911
CREATED:20240403T154821Z
LAST-MODIFIED:20240403T154821Z
UID:12795-1714473000-1714474800@fishcreekkidsacademy.com
SUMMARY:Dance Your Heart Out
DESCRIPTION:
URL:https://fishcreekkidsacademy.com/event/dance-your-heart-out-21/
CATEGORIES:FCKA Events
END:VEVENT
END:VCALENDAR