BEGIN:VCALENDAR
VERSION:2.0
PRODID:-//Fish Creek Kids Academy - ECPv6.15.20//NONSGML v1.0//EN
CALSCALE:GREGORIAN
METHOD:PUBLISH
X-ORIGINAL-URL:https://fishcreekkidsacademy.com
X-WR-CALDESC:Events for Fish Creek Kids Academy
REFRESH-INTERVAL;VALUE=DURATION:PT1H
X-Robots-Tag:noindex
X-PUBLISHED-TTL:PT1H
BEGIN:VTIMEZONE
TZID:America/Chicago
BEGIN:DAYLIGHT
TZOFFSETFROM:-0600
TZOFFSETTO:-0500
TZNAME:CDT
DTSTART:20230312T080000
END:DAYLIGHT
BEGIN:STANDARD
TZOFFSETFROM:-0500
TZOFFSETTO:-0600
TZNAME:CST
DTSTART:20231105T070000
END:STANDARD
BEGIN:DAYLIGHT
TZOFFSETFROM:-0600
TZOFFSETTO:-0500
TZNAME:CDT
DTSTART:20240310T080000
END:DAYLIGHT
BEGIN:STANDARD
TZOFFSETFROM:-0500
TZOFFSETTO:-0600
TZNAME:CST
DTSTART:20241103T070000
END:STANDARD
BEGIN:DAYLIGHT
TZOFFSETFROM:-0600
TZOFFSETTO:-0500
TZNAME:CDT
DTSTART:20250309T080000
END:DAYLIGHT
BEGIN:STANDARD
TZOFFSETFROM:-0500
TZOFFSETTO:-0600
TZNAME:CST
DTSTART:20251102T070000
END:STANDARD
END:VTIMEZONE
BEGIN:VEVENT
DTSTART;TZID=America/Chicago:20240603T100000
DTEND;TZID=America/Chicago:20240603T110000
DTSTAMP:20260420T195850
CREATED:20240607T161634Z
LAST-MODIFIED:20240607T161634Z
UID:13067-1717408800-1717412400@fishcreekkidsacademy.com
SUMMARY:Name Crystals
DESCRIPTION:
URL:https://fishcreekkidsacademy.com/event/name-crystals/
CATEGORIES:FCKA Events
END:VEVENT
BEGIN:VEVENT
DTSTART;TZID=America/Chicago:20240603T150000
DTEND;TZID=America/Chicago:20240603T160000
DTSTAMP:20260420T195850
CREATED:20240607T161722Z
LAST-MODIFIED:20240607T161807Z
UID:13069-1717426800-1717430400@fishcreekkidsacademy.com
SUMMARY:Friendship Bracelets
DESCRIPTION:
URL:https://fishcreekkidsacademy.com/event/friendship-bracelets/
CATEGORIES:FCKA Events
END:VEVENT
BEGIN:VEVENT
DTSTART;TZID=America/Chicago:20240604T093000
DTEND;TZID=America/Chicago:20240604T130000
DTSTAMP:20260420T195850
CREATED:20240607T161850Z
LAST-MODIFIED:20240607T161850Z
UID:13074-1717493400-1717506000@fishcreekkidsacademy.com
SUMMARY:Pools Cranebrook Pool
DESCRIPTION:
URL:https://fishcreekkidsacademy.com/event/pools-cranebrook-pool/
CATEGORIES:FCKA Events
END:VEVENT
BEGIN:VEVENT
DTSTART;TZID=America/Chicago:20240604T150000
DTEND;TZID=America/Chicago:20240604T160000
DTSTAMP:20260420T195850
CREATED:20240607T220503Z
LAST-MODIFIED:20240607T220503Z
UID:13076-1717513200-1717516800@fishcreekkidsacademy.com
SUMMARY:Thermal Playdoh
DESCRIPTION:
URL:https://fishcreekkidsacademy.com/event/thermal-playdoh/
CATEGORIES:FCKA Events
END:VEVENT
BEGIN:VEVENT
DTSTART;TZID=America/Chicago:20240605T090000
DTEND;TZID=America/Chicago:20240605T130000
DTSTAMP:20260420T195850
CREATED:20240607T220547Z
LAST-MODIFIED:20240607T220547Z
UID:13078-1717578000-1717592400@fishcreekkidsacademy.com
SUMMARY:Houston Zoo
DESCRIPTION:
URL:https://fishcreekkidsacademy.com/event/houston-zoo/
CATEGORIES:FCKA Events
END:VEVENT
BEGIN:VEVENT
DTSTART;TZID=America/Chicago:20240605T150000
DTEND;TZID=America/Chicago:20240605T160000
DTSTAMP:20260420T195850
CREATED:20240607T220631Z
LAST-MODIFIED:20240607T220631Z
UID:13080-1717599600-1717603200@fishcreekkidsacademy.com
SUMMARY:Bath Bombs
DESCRIPTION:
URL:https://fishcreekkidsacademy.com/event/bath-bombs/
CATEGORIES:FCKA Events
END:VEVENT
BEGIN:VEVENT
DTSTART;TZID=America/Chicago:20240606T093000
DTEND;TZID=America/Chicago:20240606T130000
DTSTAMP:20260420T195850
CREATED:20240607T220715Z
LAST-MODIFIED:20240607T220715Z
UID:13082-1717666200-1717678800@fishcreekkidsacademy.com
SUMMARY:Creamistry and The Woodlands Waterway
DESCRIPTION:
URL:https://fishcreekkidsacademy.com/event/creamistry-and-the-woodlands-waterway/
CATEGORIES:FCKA Events
END:VEVENT
BEGIN:VEVENT
DTSTART;TZID=America/Chicago:20240607T100000
DTEND;TZID=America/Chicago:20240607T110000
DTSTAMP:20260420T195850
CREATED:20240607T220821Z
LAST-MODIFIED:20240607T220821Z
UID:13086-1717754400-1717758000@fishcreekkidsacademy.com
SUMMARY:Egg Drop
DESCRIPTION:
URL:https://fishcreekkidsacademy.com/event/egg-drop/
CATEGORIES:FCKA Events
END:VEVENT
BEGIN:VEVENT
DTSTART;TZID=America/Chicago:20240607T150000
DTEND;TZID=America/Chicago:20240607T160000
DTSTAMP:20260420T195850
CREATED:20240607T220901Z
LAST-MODIFIED:20240607T220901Z
UID:13088-1717772400-1717776000@fishcreekkidsacademy.com
SUMMARY:Shrinky Dink Creations
DESCRIPTION:
URL:https://fishcreekkidsacademy.com/event/shrinky-dink-creations/
CATEGORIES:FCKA Events
END:VEVENT
BEGIN:VEVENT
DTSTART;TZID=America/Chicago:20240610T100000
DTEND;TZID=America/Chicago:20240610T110000
DTSTAMP:20260420T195850
CREATED:20240607T221201Z
LAST-MODIFIED:20240607T221201Z
UID:13090-1718013600-1718017200@fishcreekkidsacademy.com
SUMMARY:Helicopter Cups
DESCRIPTION:
URL:https://fishcreekkidsacademy.com/event/helicopter-cups/
CATEGORIES:FCKA Events
END:VEVENT
BEGIN:VEVENT
DTSTART;TZID=America/Chicago:20240610T150000
DTEND;TZID=America/Chicago:20240610T160000
DTSTAMP:20260420T195850
CREATED:20240607T221235Z
LAST-MODIFIED:20240607T221235Z
UID:13092-1718031600-1718035200@fishcreekkidsacademy.com
SUMMARY:Bubble Art
DESCRIPTION:
URL:https://fishcreekkidsacademy.com/event/bubble-art/
CATEGORIES:FCKA Events
END:VEVENT
BEGIN:VEVENT
DTSTART;TZID=America/Chicago:20240611T093000
DTEND;TZID=America/Chicago:20240611T130000
DTSTAMP:20260420T195850
CREATED:20240607T221329Z
LAST-MODIFIED:20240607T221329Z
UID:13094-1718098200-1718110800@fishcreekkidsacademy.com
SUMMARY:Pool Falconwing Pool
DESCRIPTION:
URL:https://fishcreekkidsacademy.com/event/pool-falconwing-pool/
CATEGORIES:FCKA Events
END:VEVENT
BEGIN:VEVENT
DTSTART;TZID=America/Chicago:20240611T150000
DTEND;TZID=America/Chicago:20240611T160000
DTSTAMP:20260420T195850
CREATED:20240607T221401Z
LAST-MODIFIED:20240607T221401Z
UID:13096-1718118000-1718121600@fishcreekkidsacademy.com
SUMMARY:Straw Rockets
DESCRIPTION:
URL:https://fishcreekkidsacademy.com/event/straw-rockets/
CATEGORIES:FCKA Events
END:VEVENT
BEGIN:VEVENT
DTSTART;TZID=America/Chicago:20240612T090000
DTEND;TZID=America/Chicago:20240612T130000
DTSTAMP:20260420T195850
CREATED:20240607T221529Z
LAST-MODIFIED:20240607T221529Z
UID:13100-1718182800-1718197200@fishcreekkidsacademy.com
SUMMARY:Fly Stem
DESCRIPTION:
URL:https://fishcreekkidsacademy.com/event/fly-stem/
CATEGORIES:FCKA Events
END:VEVENT
BEGIN:VEVENT
DTSTART;TZID=America/Chicago:20240612T150000
DTEND;TZID=America/Chicago:20240612T160000
DTSTAMP:20260420T195850
CREATED:20240607T221458Z
LAST-MODIFIED:20240607T221458Z
UID:13098-1718204400-1718208000@fishcreekkidsacademy.com
SUMMARY:Paper Bag Kites
DESCRIPTION:
URL:https://fishcreekkidsacademy.com/event/paper-bag-kites/
CATEGORIES:FCKA Events
END:VEVENT
BEGIN:VEVENT
DTSTART;TZID=America/Chicago:20240613T103000
DTEND;TZID=America/Chicago:20240613T123000
DTSTAMP:20260420T195850
CREATED:20240607T221617Z
LAST-MODIFIED:20240607T221617Z
UID:13102-1718274600-1718281800@fishcreekkidsacademy.com
SUMMARY:Lone Star Sports Zone
DESCRIPTION:
URL:https://fishcreekkidsacademy.com/event/lone-star-sports-zone/
CATEGORIES:FCKA Events
END:VEVENT
BEGIN:VEVENT
DTSTART;TZID=America/Chicago:20240613T150000
DTEND;TZID=America/Chicago:20240613T160000
DTSTAMP:20260420T195850
CREATED:20240607T221651Z
LAST-MODIFIED:20240607T221651Z
UID:13104-1718290800-1718294400@fishcreekkidsacademy.com
SUMMARY:Hot Air Balloons
DESCRIPTION:
URL:https://fishcreekkidsacademy.com/event/hot-air-balloons/
CATEGORIES:FCKA Events
END:VEVENT
BEGIN:VEVENT
DTSTART;TZID=America/Chicago:20240614T073000
DTEND;TZID=America/Chicago:20240614T090000
DTSTAMP:20260420T195850
CREATED:20240607T221726Z
LAST-MODIFIED:20240607T221726Z
UID:13106-1718350200-1718355600@fishcreekkidsacademy.com
SUMMARY:Donuts with Dad
DESCRIPTION:
URL:https://fishcreekkidsacademy.com/event/donuts-with-dad/
CATEGORIES:FCKA Events
END:VEVENT
BEGIN:VEVENT
DTSTART;TZID=America/Chicago:20240614T093000
DTEND;TZID=America/Chicago:20240614T110000
DTSTAMP:20260420T195850
CREATED:20240607T221817Z
LAST-MODIFIED:20240607T221817Z
UID:13108-1718357400-1718362800@fishcreekkidsacademy.com
SUMMARY:Bubble Fun Run
DESCRIPTION:
URL:https://fishcreekkidsacademy.com/event/bubble-fun-run-2/
CATEGORIES:FCKA Events
END:VEVENT
BEGIN:VEVENT
DTSTART;TZID=America/Chicago:20240617T100000
DTEND;TZID=America/Chicago:20240617T110000
DTSTAMP:20260420T195850
CREATED:20240607T222544Z
LAST-MODIFIED:20240607T222544Z
UID:13126-1718618400-1718622000@fishcreekkidsacademy.com
SUMMARY:Building Lego Boats
DESCRIPTION:
URL:https://fishcreekkidsacademy.com/event/building-lego-boats/
CATEGORIES:FCKA Events
END:VEVENT
BEGIN:VEVENT
DTSTART;TZID=America/Chicago:20240617T150000
DTEND;TZID=America/Chicago:20240617T160000
DTSTAMP:20260420T195850
CREATED:20240607T222613Z
LAST-MODIFIED:20240607T222613Z
UID:13128-1718636400-1718640000@fishcreekkidsacademy.com
SUMMARY:Lego Boat Races
DESCRIPTION:
URL:https://fishcreekkidsacademy.com/event/lego-boat-races/
CATEGORIES:FCKA Events
END:VEVENT
BEGIN:VEVENT
DTSTART;TZID=America/Chicago:20240618T093000
DTEND;TZID=America/Chicago:20240618T130000
DTSTAMP:20260420T195850
CREATED:20240607T222649Z
LAST-MODIFIED:20240607T222649Z
UID:13130-1718703000-1718715600@fishcreekkidsacademy.com
SUMMARY:Pool Falconwing Pool
DESCRIPTION:
URL:https://fishcreekkidsacademy.com/event/pool-falconwing-pool-2/
CATEGORIES:FCKA Events
END:VEVENT
BEGIN:VEVENT
DTSTART;TZID=America/Chicago:20240618T150000
DTEND;TZID=America/Chicago:20240618T160000
DTSTAMP:20260420T195850
CREATED:20240607T222721Z
LAST-MODIFIED:20240607T222721Z
UID:13132-1718722800-1718726400@fishcreekkidsacademy.com
SUMMARY:Lego I Spy
DESCRIPTION:
URL:https://fishcreekkidsacademy.com/event/lego-i-spy/
CATEGORIES:FCKA Events
END:VEVENT
BEGIN:VEVENT
DTSTART;TZID=America/Chicago:20240619T100000
DTEND;TZID=America/Chicago:20240619T110000
DTSTAMP:20260420T195850
CREATED:20240607T222757Z
LAST-MODIFIED:20240607T222757Z
UID:13134-1718791200-1718794800@fishcreekkidsacademy.com
SUMMARY:Lego Robots
DESCRIPTION:
URL:https://fishcreekkidsacademy.com/event/lego-robots/
CATEGORIES:FCKA Events
END:VEVENT
BEGIN:VEVENT
DTSTART;TZID=America/Chicago:20240619T150000
DTEND;TZID=America/Chicago:20240619T160000
DTSTAMP:20260420T195850
CREATED:20240607T222830Z
LAST-MODIFIED:20240607T222830Z
UID:13136-1718809200-1718812800@fishcreekkidsacademy.com
SUMMARY:Lego Stamp Cities
DESCRIPTION:
URL:https://fishcreekkidsacademy.com/event/lego-stamp-cities/
CATEGORIES:FCKA Events
END:VEVENT
BEGIN:VEVENT
DTSTART;TZID=America/Chicago:20240620T113000
DTEND;TZID=America/Chicago:20240620T150000
DTSTAMP:20260420T195850
CREATED:20240607T222906Z
LAST-MODIFIED:20240607T222906Z
UID:13138-1718883000-1718895600@fishcreekkidsacademy.com
SUMMARY:Rainbow Roller Rink
DESCRIPTION:
URL:https://fishcreekkidsacademy.com/event/rainbow-roller-rink/
CATEGORIES:FCKA Events
END:VEVENT
BEGIN:VEVENT
DTSTART;TZID=America/Chicago:20240620T150000
DTEND;TZID=America/Chicago:20240620T160000
DTSTAMP:20260420T195850
CREATED:20240607T222938Z
LAST-MODIFIED:20240607T222938Z
UID:13140-1718895600-1718899200@fishcreekkidsacademy.com
SUMMARY:Lego Crayons
DESCRIPTION:
URL:https://fishcreekkidsacademy.com/event/lego-crayons/
CATEGORIES:FCKA Events
END:VEVENT
BEGIN:VEVENT
DTSTART;TZID=America/Chicago:20240621T090000
DTEND;TZID=America/Chicago:20240621T230000
DTSTAMP:20260420T195850
CREATED:20240607T223018Z
LAST-MODIFIED:20240607T223018Z
UID:13142-1718960400-1719010800@fishcreekkidsacademy.com
SUMMARY:Field Day
DESCRIPTION:
URL:https://fishcreekkidsacademy.com/event/field-day/
CATEGORIES:FCKA Events
END:VEVENT
BEGIN:VEVENT
DTSTART;TZID=America/Chicago:20240621T150000
DTEND;TZID=America/Chicago:20240621T160000
DTSTAMP:20260420T195850
CREATED:20240607T223054Z
LAST-MODIFIED:20240607T223054Z
UID:13144-1718982000-1718985600@fishcreekkidsacademy.com
SUMMARY:Lego Mazes
DESCRIPTION:
URL:https://fishcreekkidsacademy.com/event/lego-mazes/
CATEGORIES:FCKA Events
END:VEVENT
BEGIN:VEVENT
DTSTART;TZID=America/Chicago:20240624T100000
DTEND;TZID=America/Chicago:20240624T110000
DTSTAMP:20260420T195850
CREATED:20240607T223144Z
LAST-MODIFIED:20240607T223144Z
UID:13146-1719223200-1719226800@fishcreekkidsacademy.com
SUMMARY:Bug Soap
DESCRIPTION:
URL:https://fishcreekkidsacademy.com/event/bug-soap/
CATEGORIES:FCKA Events
END:VEVENT
END:VCALENDAR