BEGIN:VCALENDAR
VERSION:2.0
PRODID:-//Fish Creek Kids Academy - ECPv6.15.20//NONSGML v1.0//EN
CALSCALE:GREGORIAN
METHOD:PUBLISH
X-ORIGINAL-URL:https://fishcreekkidsacademy.com
X-WR-CALDESC:Events for Fish Creek Kids Academy
REFRESH-INTERVAL;VALUE=DURATION:PT1H
X-Robots-Tag:noindex
X-PUBLISHED-TTL:PT1H
BEGIN:VTIMEZONE
TZID:America/Chicago
BEGIN:DAYLIGHT
TZOFFSETFROM:-0600
TZOFFSETTO:-0500
TZNAME:CDT
DTSTART:20230312T080000
END:DAYLIGHT
BEGIN:STANDARD
TZOFFSETFROM:-0500
TZOFFSETTO:-0600
TZNAME:CST
DTSTART:20231105T070000
END:STANDARD
BEGIN:DAYLIGHT
TZOFFSETFROM:-0600
TZOFFSETTO:-0500
TZNAME:CDT
DTSTART:20240310T080000
END:DAYLIGHT
BEGIN:STANDARD
TZOFFSETFROM:-0500
TZOFFSETTO:-0600
TZNAME:CST
DTSTART:20241103T070000
END:STANDARD
BEGIN:DAYLIGHT
TZOFFSETFROM:-0600
TZOFFSETTO:-0500
TZNAME:CDT
DTSTART:20250309T080000
END:DAYLIGHT
BEGIN:STANDARD
TZOFFSETFROM:-0500
TZOFFSETTO:-0600
TZNAME:CST
DTSTART:20251102T070000
END:STANDARD
END:VTIMEZONE
BEGIN:VEVENT
DTSTART;VALUE=DATE:20240902
DTEND;VALUE=DATE:20240903
DTSTAMP:20260420T151113
CREATED:20240912T224748Z
LAST-MODIFIED:20240912T224748Z
UID:13378-1725235200-1725321599@fishcreekkidsacademy.com
SUMMARY:FCKA Closed - Labor Day - All ISD's Closed
DESCRIPTION:
URL:https://fishcreekkidsacademy.com/event/fcka-closed-labor-day-all-isds-closed/
CATEGORIES:FCKA Events
END:VEVENT
BEGIN:VEVENT
DTSTART;VALUE=DATE:20240903
DTEND;VALUE=DATE:20240929
DTSTAMP:20260420T151113
CREATED:20240912T224705Z
LAST-MODIFIED:20240912T224705Z
UID:13376-1725321600-1727567999@fishcreekkidsacademy.com
SUMMARY:TBA Fall Picture Day
DESCRIPTION:
URL:https://fishcreekkidsacademy.com/event/tba-fall-picture-day/
CATEGORIES:FCKA Events
END:VEVENT
BEGIN:VEVENT
DTSTART;VALUE=DATE:20240906
DTEND;VALUE=DATE:20240907
DTSTAMP:20260420T151113
CREATED:20240912T224254Z
LAST-MODIFIED:20240912T224254Z
UID:13364-1725580800-1725667199@fishcreekkidsacademy.com
SUMMARY:Grandparents Gifts
DESCRIPTION:
URL:https://fishcreekkidsacademy.com/event/grandparents-gifts/
CATEGORIES:FCKA Events
END:VEVENT
BEGIN:VEVENT
DTSTART;VALUE=DATE:20240909
DTEND;VALUE=DATE:20240914
DTSTAMP:20260420T151113
CREATED:20240912T224227Z
LAST-MODIFIED:20240912T224227Z
UID:13362-1725840000-1726271999@fishcreekkidsacademy.com
SUMMARY:FCKA Spirit Week Dress Up Everyday
DESCRIPTION:
URL:https://fishcreekkidsacademy.com/event/fcka-spirit-week-dress-up-everyday/
CATEGORIES:FCKA Events
END:VEVENT
BEGIN:VEVENT
DTSTART;VALUE=DATE:20240916
DTEND;VALUE=DATE:20240917
DTSTAMP:20260420T151113
CREATED:20240912T224324Z
LAST-MODIFIED:20240912T224324Z
UID:13366-1726444800-1726531199@fishcreekkidsacademy.com
SUMMARY:Magnolia ISD Out
DESCRIPTION:
URL:https://fishcreekkidsacademy.com/event/magnolia-isd-out-2/
CATEGORIES:FCKA Events
END:VEVENT
BEGIN:VEVENT
DTSTART;VALUE=DATE:20240919
DTEND;VALUE=DATE:20240920
DTSTAMP:20260420T151113
CREATED:20240912T224353Z
LAST-MODIFIED:20240912T224353Z
UID:13368-1726704000-1726790399@fishcreekkidsacademy.com
SUMMARY:Dress Up Batman/Batgirl
DESCRIPTION:
URL:https://fishcreekkidsacademy.com/event/dress-up-batman-batgirl/
CATEGORIES:FCKA Events
END:VEVENT
BEGIN:VEVENT
DTSTART;VALUE=DATE:20240923
DTEND;VALUE=DATE:20240928
DTSTAMP:20260420T151113
CREATED:20240912T224620Z
LAST-MODIFIED:20240912T224620Z
UID:13374-1727049600-1727481599@fishcreekkidsacademy.com
SUMMARY:FCKA 7th Annual Line Art Show
DESCRIPTION:
URL:https://fishcreekkidsacademy.com/event/fcka-7th-annual-line-art-show/
CATEGORIES:FCKA Events
END:VEVENT
BEGIN:VEVENT
DTSTART;VALUE=DATE:20240926
DTEND;VALUE=DATE:20240927
DTSTAMP:20260420T151113
CREATED:20240912T224428Z
LAST-MODIFIED:20240912T224428Z
UID:13370-1727308800-1727395199@fishcreekkidsacademy.com
SUMMARY:Johnny Appleseed Day
DESCRIPTION:
URL:https://fishcreekkidsacademy.com/event/johnny-appleseed-day/
CATEGORIES:FCKA Events
END:VEVENT
BEGIN:VEVENT
DTSTART;VALUE=DATE:20240930
DTEND;VALUE=DATE:20241001
DTSTAMP:20260420T151113
CREATED:20240912T224500Z
LAST-MODIFIED:20240912T224500Z
UID:13372-1727654400-1727740799@fishcreekkidsacademy.com
SUMMARY:Boy Assessments Due
DESCRIPTION:
URL:https://fishcreekkidsacademy.com/event/boy-assessments-due/
CATEGORIES:FCKA Events
END:VEVENT
END:VCALENDAR