BEGIN:VCALENDAR
VERSION:2.0
PRODID:-//Fish Creek Kids Academy - ECPv6.15.20//NONSGML v1.0//EN
CALSCALE:GREGORIAN
METHOD:PUBLISH
X-ORIGINAL-URL:https://fishcreekkidsacademy.com
X-WR-CALDESC:Events for Fish Creek Kids Academy
REFRESH-INTERVAL;VALUE=DURATION:PT1H
X-Robots-Tag:noindex
X-PUBLISHED-TTL:PT1H
BEGIN:VTIMEZONE
TZID:America/Chicago
BEGIN:DAYLIGHT
TZOFFSETFROM:-0600
TZOFFSETTO:-0500
TZNAME:CDT
DTSTART:20230312T080000
END:DAYLIGHT
BEGIN:STANDARD
TZOFFSETFROM:-0500
TZOFFSETTO:-0600
TZNAME:CST
DTSTART:20231105T070000
END:STANDARD
BEGIN:DAYLIGHT
TZOFFSETFROM:-0600
TZOFFSETTO:-0500
TZNAME:CDT
DTSTART:20240310T080000
END:DAYLIGHT
BEGIN:STANDARD
TZOFFSETFROM:-0500
TZOFFSETTO:-0600
TZNAME:CST
DTSTART:20241103T070000
END:STANDARD
BEGIN:DAYLIGHT
TZOFFSETFROM:-0600
TZOFFSETTO:-0500
TZNAME:CDT
DTSTART:20250309T080000
END:DAYLIGHT
BEGIN:STANDARD
TZOFFSETFROM:-0500
TZOFFSETTO:-0600
TZNAME:CST
DTSTART:20251102T070000
END:STANDARD
END:VTIMEZONE
BEGIN:VEVENT
DTSTART;VALUE=DATE:20241001
DTEND;VALUE=DATE:20241101
DTSTAMP:20260420T133228
CREATED:20240913T150518Z
LAST-MODIFIED:20240913T150518Z
UID:13411-1727740800-1730419199@fishcreekkidsacademy.com
SUMMARY:Fall Food Drive
DESCRIPTION:
URL:https://fishcreekkidsacademy.com/event/fall-food-drive-2/
CATEGORIES:FCKA Events
END:VEVENT
BEGIN:VEVENT
DTSTART;TZID=America/Chicago:20241001T103000
DTEND;TZID=America/Chicago:20241001T110000
DTSTAMP:20260420T133228
CREATED:20241003T211128Z
LAST-MODIFIED:20241003T211128Z
UID:13445-1727778600-1727780400@fishcreekkidsacademy.com
SUMMARY:Dance your heart out
DESCRIPTION:
URL:https://fishcreekkidsacademy.com/event/dance-your-heart-out-23/
CATEGORIES:FCKA Events
END:VEVENT
BEGIN:VEVENT
DTSTART;TZID=America/Chicago:20241002T090000
DTEND;TZID=America/Chicago:20241002T103000
DTSTAMP:20260420T133228
CREATED:20241003T211213Z
LAST-MODIFIED:20241003T211213Z
UID:13447-1727859600-1727865000@fishcreekkidsacademy.com
SUMMARY:Soccer Shots
DESCRIPTION:
URL:https://fishcreekkidsacademy.com/event/soccer-shots-28/
CATEGORIES:FCKA Events
END:VEVENT
BEGIN:VEVENT
DTSTART;VALUE=DATE:20241004
DTEND;VALUE=DATE:20241005
DTSTAMP:20260420T133228
CREATED:20240912T230508Z
LAST-MODIFIED:20240912T230508Z
UID:13383-1728000000-1728086399@fishcreekkidsacademy.com
SUMMARY:World Teacher Day
DESCRIPTION:
URL:https://fishcreekkidsacademy.com/event/world-teacher-day-2/
CATEGORIES:FCKA Events
END:VEVENT
BEGIN:VEVENT
DTSTART;VALUE=DATE:20241004
DTEND;VALUE=DATE:20241005
DTSTAMP:20260420T133228
CREATED:20241003T211338Z
LAST-MODIFIED:20241003T211338Z
UID:13451-1728000000-1728086399@fishcreekkidsacademy.com
SUMMARY:Bring your teacher a treat or sweet note
DESCRIPTION:
URL:https://fishcreekkidsacademy.com/event/bring-your-teacher-a-treat-or-sweet-note/
CATEGORIES:FCKA Events
END:VEVENT
BEGIN:VEVENT
DTSTART;VALUE=DATE:20241007
DTEND;VALUE=DATE:20241008
DTSTAMP:20260420T133228
CREATED:20241003T211439Z
LAST-MODIFIED:20241003T211439Z
UID:13453-1728259200-1728345599@fishcreekkidsacademy.com
SUMMARY:Theme: Fall Season
DESCRIPTION:
URL:https://fishcreekkidsacademy.com/event/theme-fall-season/
CATEGORIES:FCKA Events
END:VEVENT
BEGIN:VEVENT
DTSTART;VALUE=DATE:20241007
DTEND;VALUE=DATE:20241012
DTSTAMP:20260420T133228
CREATED:20240912T230554Z
LAST-MODIFIED:20240912T230554Z
UID:13385-1728259200-1728691199@fishcreekkidsacademy.com
SUMMARY:Magnolia ISD Out
DESCRIPTION:
URL:https://fishcreekkidsacademy.com/event/magnolia-isd-out-5/
CATEGORIES:FCKA Events
END:VEVENT
BEGIN:VEVENT
DTSTART;TZID=America/Chicago:20241008T103000
DTEND;TZID=America/Chicago:20241008T110000
DTSTAMP:20260420T133228
CREATED:20241003T211507Z
LAST-MODIFIED:20241003T211927Z
UID:13455-1728383400-1728385200@fishcreekkidsacademy.com
SUMMARY:Dance your heart out
DESCRIPTION:
URL:https://fishcreekkidsacademy.com/event/dance-your-heart-out-24/
CATEGORIES:FCKA Events
END:VEVENT
BEGIN:VEVENT
DTSTART;TZID=America/Chicago:20241009T090000
DTEND;TZID=America/Chicago:20241009T103000
DTSTAMP:20260420T133228
CREATED:20241003T211841Z
LAST-MODIFIED:20241003T211841Z
UID:13463-1728464400-1728469800@fishcreekkidsacademy.com
SUMMARY:Soccer Shots
DESCRIPTION:
URL:https://fishcreekkidsacademy.com/event/soccer-shots-29/
CATEGORIES:FCKA Events
END:VEVENT
BEGIN:VEVENT
DTSTART;VALUE=DATE:20241011
DTEND;VALUE=DATE:20241012
DTSTAMP:20260420T133228
CREATED:20240913T144818Z
LAST-MODIFIED:20240913T145248Z
UID:13393-1728604800-1728691199@fishcreekkidsacademy.com
SUMMARY:Conroe & Montgomery Out
DESCRIPTION:
URL:https://fishcreekkidsacademy.com/event/conroe-montgomery-out/
CATEGORIES:FCKA Events
END:VEVENT
BEGIN:VEVENT
DTSTART;TZID=America/Chicago:20241011T100000
DTEND;TZID=America/Chicago:20241011T101500
DTSTAMP:20260420T133228
CREATED:20241003T213021Z
LAST-MODIFIED:20241003T213112Z
UID:13491-1728640800-1728641700@fishcreekkidsacademy.com
SUMMARY:Assembly
DESCRIPTION:
URL:https://fishcreekkidsacademy.com/event/assembly-32/
CATEGORIES:FCKA Events
END:VEVENT
BEGIN:VEVENT
DTSTART;VALUE=DATE:20241014
DTEND;VALUE=DATE:20241015
DTSTAMP:20260420T133228
CREATED:20240913T145339Z
LAST-MODIFIED:20240913T145339Z
UID:13395-1728864000-1728950399@fishcreekkidsacademy.com
SUMMARY:Conroe & Montgomery Out
DESCRIPTION:
URL:https://fishcreekkidsacademy.com/event/conroe-montgomery-out-2/
CATEGORIES:FCKA Events
END:VEVENT
BEGIN:VEVENT
DTSTART;VALUE=DATE:20241014
DTEND;VALUE=DATE:20241015
DTSTAMP:20260420T133228
CREATED:20240913T145411Z
LAST-MODIFIED:20240913T145411Z
UID:13397-1728864000-1728950399@fishcreekkidsacademy.com
SUMMARY:Columbus Day
DESCRIPTION:
URL:https://fishcreekkidsacademy.com/event/columbus-day/
CATEGORIES:FCKA Events
END:VEVENT
BEGIN:VEVENT
DTSTART;VALUE=DATE:20241014
DTEND;VALUE=DATE:20241015
DTSTAMP:20260420T133228
CREATED:20241003T212302Z
LAST-MODIFIED:20241003T212302Z
UID:13474-1728864000-1728950399@fishcreekkidsacademy.com
SUMMARY:Theme: Fire Safety
DESCRIPTION:
URL:https://fishcreekkidsacademy.com/event/theme-fire-safety/
CATEGORIES:FCKA Events
END:VEVENT
BEGIN:VEVENT
DTSTART;VALUE=DATE:20241015
DTEND;VALUE=DATE:20241016
DTSTAMP:20260420T133228
CREATED:20240913T145446Z
LAST-MODIFIED:20240913T145446Z
UID:13399-1728950400-1729036799@fishcreekkidsacademy.com
SUMMARY:Montgomery ISD Out
DESCRIPTION:
URL:https://fishcreekkidsacademy.com/event/montgomery-isd-out-6/
CATEGORIES:FCKA Events
END:VEVENT
BEGIN:VEVENT
DTSTART;TZID=America/Chicago:20241015T103000
DTEND;TZID=America/Chicago:20241015T113000
DTSTAMP:20260420T133228
CREATED:20241003T211552Z
LAST-MODIFIED:20241003T211552Z
UID:13457-1728988200-1728991800@fishcreekkidsacademy.com
SUMMARY:Dance your heart out
DESCRIPTION:
URL:https://fishcreekkidsacademy.com/event/dance-your-heart-out-25/
CATEGORIES:FCKA Events
END:VEVENT
BEGIN:VEVENT
DTSTART;TZID=America/Chicago:20241016T090000
DTEND;TZID=America/Chicago:20241016T103000
DTSTAMP:20260420T133228
CREATED:20241003T212021Z
LAST-MODIFIED:20241003T212021Z
UID:13465-1729069200-1729074600@fishcreekkidsacademy.com
SUMMARY:Soccer Shots
DESCRIPTION:
URL:https://fishcreekkidsacademy.com/event/soccer-shots-30/
CATEGORIES:FCKA Events
END:VEVENT
BEGIN:VEVENT
DTSTART;VALUE=DATE:20241017
DTEND;VALUE=DATE:20241018
DTSTAMP:20260420T133228
CREATED:20241003T212815Z
LAST-MODIFIED:20241003T212815Z
UID:13485-1729123200-1729209599@fishcreekkidsacademy.com
SUMMARY:POP UP DRESS UP DAY: BLACKOUT (wear all black)
DESCRIPTION:
URL:https://fishcreekkidsacademy.com/event/pop-up-dress-up-day-blackout-wear-all-black/
CATEGORIES:FCKA Events
END:VEVENT
BEGIN:VEVENT
DTSTART;VALUE=DATE:20241018
DTEND;VALUE=DATE:20241019
DTSTAMP:20260420T133228
CREATED:20240913T145526Z
LAST-MODIFIED:20240913T145526Z
UID:13401-1729209600-1729295999@fishcreekkidsacademy.com
SUMMARY:Halloween PJ Day
DESCRIPTION:
URL:https://fishcreekkidsacademy.com/event/halloween-pj-day/
CATEGORIES:FCKA Events
END:VEVENT
BEGIN:VEVENT
DTSTART;VALUE=DATE:20241019
DTEND;VALUE=DATE:20241020
DTSTAMP:20260420T133228
CREATED:20240913T145959Z
LAST-MODIFIED:20240913T145959Z
UID:13403-1729296000-1729382399@fishcreekkidsacademy.com
SUMMARY:Mandatory Staff Training
DESCRIPTION:
URL:https://fishcreekkidsacademy.com/event/mandatory-staff-training-2/
CATEGORIES:FCKA Events
END:VEVENT
BEGIN:VEVENT
DTSTART;VALUE=DATE:20241021
DTEND;VALUE=DATE:20241022
DTSTAMP:20260420T133228
CREATED:20241003T212326Z
LAST-MODIFIED:20241003T212326Z
UID:13476-1729468800-1729555199@fishcreekkidsacademy.com
SUMMARY:Classroom Pumpkin Contests
DESCRIPTION:
URL:https://fishcreekkidsacademy.com/event/classroom-pumpkin-contests-3/
CATEGORIES:FCKA Events
END:VEVENT
BEGIN:VEVENT
DTSTART;VALUE=DATE:20241021
DTEND;VALUE=DATE:20241022
DTSTAMP:20260420T133228
CREATED:20241003T212346Z
LAST-MODIFIED:20241003T212346Z
UID:13478-1729468800-1729555199@fishcreekkidsacademy.com
SUMMARY:Theme: The 5 Senses
DESCRIPTION:
URL:https://fishcreekkidsacademy.com/event/theme-the-5-senses/
CATEGORIES:FCKA Events
END:VEVENT
BEGIN:VEVENT
DTSTART;VALUE=DATE:20241021
DTEND;VALUE=DATE:20241026
DTSTAMP:20260420T133228
CREATED:20240913T150037Z
LAST-MODIFIED:20240913T150037Z
UID:13405-1729468800-1729900799@fishcreekkidsacademy.com
SUMMARY:Classroom Pumpkin Contests
DESCRIPTION:
URL:https://fishcreekkidsacademy.com/event/classroom-pumpkin-contests-2/
CATEGORIES:FCKA Events
END:VEVENT
BEGIN:VEVENT
DTSTART;TZID=America/Chicago:20241022T103000
DTEND;TZID=America/Chicago:20241022T110000
DTSTAMP:20260420T133228
CREATED:20241003T211632Z
LAST-MODIFIED:20241003T211632Z
UID:13459-1729593000-1729594800@fishcreekkidsacademy.com
SUMMARY:Dance your heart out
DESCRIPTION:
URL:https://fishcreekkidsacademy.com/event/dance-your-heart-out-26/
CATEGORIES:FCKA Events
END:VEVENT
BEGIN:VEVENT
DTSTART;TZID=America/Chicago:20241023T090000
DTEND;TZID=America/Chicago:20241023T103000
DTSTAMP:20260420T133228
CREATED:20241003T212154Z
LAST-MODIFIED:20241003T212154Z
UID:13470-1729674000-1729679400@fishcreekkidsacademy.com
SUMMARY:Soccer Shots
DESCRIPTION:
URL:https://fishcreekkidsacademy.com/event/soccer-shots-31/
CATEGORIES:FCKA Events
END:VEVENT
BEGIN:VEVENT
DTSTART;TZID=America/Chicago:20241025T100000
DTEND;TZID=America/Chicago:20241025T101500
DTSTAMP:20260420T133228
CREATED:20241003T213204Z
LAST-MODIFIED:20241003T213204Z
UID:13493-1729850400-1729851300@fishcreekkidsacademy.com
SUMMARY:Assembly
DESCRIPTION:
URL:https://fishcreekkidsacademy.com/event/assembly-33/
CATEGORIES:FCKA Events
END:VEVENT
BEGIN:VEVENT
DTSTART;VALUE=DATE:20241028
DTEND;VALUE=DATE:20241029
DTSTAMP:20260420T133228
CREATED:20240913T150248Z
LAST-MODIFIED:20240913T150248Z
UID:13407-1730073600-1730159999@fishcreekkidsacademy.com
SUMMARY:Pumpkin Dress Up Day
DESCRIPTION:
URL:https://fishcreekkidsacademy.com/event/pumpkin-dress-up-day-2/
CATEGORIES:FCKA Events
END:VEVENT
BEGIN:VEVENT
DTSTART;VALUE=DATE:20241028
DTEND;VALUE=DATE:20241029
DTSTAMP:20260420T133228
CREATED:20241003T212409Z
LAST-MODIFIED:20241003T212409Z
UID:13480-1730073600-1730159999@fishcreekkidsacademy.com
SUMMARY:DRESS LIKE A PUMPKIN DAY
DESCRIPTION:
URL:https://fishcreekkidsacademy.com/event/dress-like-a-pumpkin-day/
CATEGORIES:FCKA Events
END:VEVENT
BEGIN:VEVENT
DTSTART;VALUE=DATE:20241028
DTEND;VALUE=DATE:20241029
DTSTAMP:20260420T133228
CREATED:20241003T212702Z
LAST-MODIFIED:20241003T212702Z
UID:13483-1730073600-1730159999@fishcreekkidsacademy.com
SUMMARY:Theme: pumpkins
DESCRIPTION:
URL:https://fishcreekkidsacademy.com/event/theme-pumpkins/
CATEGORIES:FCKA Events
END:VEVENT
BEGIN:VEVENT
DTSTART;TZID=America/Chicago:20241029T103000
DTEND;TZID=America/Chicago:20241029T110000
DTSTAMP:20260420T133228
CREATED:20241003T211705Z
LAST-MODIFIED:20241003T211705Z
UID:13461-1730197800-1730199600@fishcreekkidsacademy.com
SUMMARY:Dance your heart out
DESCRIPTION:
URL:https://fishcreekkidsacademy.com/event/dance-your-heart-out-27/
CATEGORIES:FCKA Events
END:VEVENT
END:VCALENDAR