BEGIN:VCALENDAR
VERSION:2.0
PRODID:-//Fish Creek Kids Academy - ECPv6.15.20//NONSGML v1.0//EN
CALSCALE:GREGORIAN
METHOD:PUBLISH
X-ORIGINAL-URL:https://fishcreekkidsacademy.com
X-WR-CALDESC:Events for Fish Creek Kids Academy
REFRESH-INTERVAL;VALUE=DURATION:PT1H
X-Robots-Tag:noindex
X-PUBLISHED-TTL:PT1H
BEGIN:VTIMEZONE
TZID:America/Chicago
BEGIN:DAYLIGHT
TZOFFSETFROM:-0600
TZOFFSETTO:-0500
TZNAME:CDT
DTSTART:20240310T080000
END:DAYLIGHT
BEGIN:STANDARD
TZOFFSETFROM:-0500
TZOFFSETTO:-0600
TZNAME:CST
DTSTART:20241103T070000
END:STANDARD
BEGIN:DAYLIGHT
TZOFFSETFROM:-0600
TZOFFSETTO:-0500
TZNAME:CDT
DTSTART:20250309T080000
END:DAYLIGHT
BEGIN:STANDARD
TZOFFSETFROM:-0500
TZOFFSETTO:-0600
TZNAME:CST
DTSTART:20251102T070000
END:STANDARD
BEGIN:DAYLIGHT
TZOFFSETFROM:-0600
TZOFFSETTO:-0500
TZNAME:CDT
DTSTART:20260308T080000
END:DAYLIGHT
BEGIN:STANDARD
TZOFFSETFROM:-0500
TZOFFSETTO:-0600
TZNAME:CST
DTSTART:20261101T070000
END:STANDARD
END:VTIMEZONE
BEGIN:VEVENT
DTSTART;VALUE=DATE:20250101
DTEND;VALUE=DATE:20250102
DTSTAMP:20260420T084705
CREATED:20241003T214726Z
LAST-MODIFIED:20241003T214726Z
UID:13533-1735689600-1735775999@fishcreekkidsacademy.com
SUMMARY:Closed– New Year’s Day
DESCRIPTION:
URL:https://fishcreekkidsacademy.com/event/closed-new-years-day/
CATEGORIES:FCKA Events
END:VEVENT
BEGIN:VEVENT
DTSTART;VALUE=DATE:20250102
DTEND;VALUE=DATE:20250103
DTSTAMP:20260420T084705
CREATED:20250103T013935Z
LAST-MODIFIED:20250103T013935Z
UID:13884-1735776000-1735862399@fishcreekkidsacademy.com
SUMMARY:Theme: Snow & Ice
DESCRIPTION:
URL:https://fishcreekkidsacademy.com/event/theme-snow-ice-2/
CATEGORIES:FCKA Events
END:VEVENT
BEGIN:VEVENT
DTSTART;VALUE=DATE:20250102
DTEND;VALUE=DATE:20250107
DTSTAMP:20260420T084705
CREATED:20241003T214806Z
LAST-MODIFIED:20241003T214806Z
UID:13535-1735776000-1736207999@fishcreekkidsacademy.com
SUMMARY:Conroe & Montgomery Out
DESCRIPTION:
URL:https://fishcreekkidsacademy.com/event/conroe-montgomery-out-3/
CATEGORIES:FCKA Events
END:VEVENT
BEGIN:VEVENT
DTSTART;VALUE=DATE:20250102
DTEND;VALUE=DATE:20250108
DTSTAMP:20260420T084705
CREATED:20241003T214845Z
LAST-MODIFIED:20241003T214845Z
UID:13537-1735776000-1736294399@fishcreekkidsacademy.com
SUMMARY:Magnolia ISD Out
DESCRIPTION:
URL:https://fishcreekkidsacademy.com/event/magnolia-isd-out-3/
CATEGORIES:FCKA Events
END:VEVENT
BEGIN:VEVENT
DTSTART;VALUE=DATE:20250106
DTEND;VALUE=DATE:20250107
DTSTAMP:20260420T084705
CREATED:20250103T014005Z
LAST-MODIFIED:20250103T014005Z
UID:13886-1736121600-1736207999@fishcreekkidsacademy.com
SUMMARY:Theme: Hibernation
DESCRIPTION:
URL:https://fishcreekkidsacademy.com/event/theme-hibernation-2/
CATEGORIES:FCKA Events
END:VEVENT
BEGIN:VEVENT
DTSTART;TZID=America/Chicago:20250107T103000
DTEND;TZID=America/Chicago:20250107T110000
DTSTAMP:20260420T084705
CREATED:20250103T014041Z
LAST-MODIFIED:20250103T014041Z
UID:13888-1736245800-1736247600@fishcreekkidsacademy.com
SUMMARY:Dance your Heart out
DESCRIPTION:
URL:https://fishcreekkidsacademy.com/event/dance-your-heart-out-31/
CATEGORIES:FCKA Events
END:VEVENT
BEGIN:VEVENT
DTSTART;TZID=America/Chicago:20250108T090000
DTEND;TZID=America/Chicago:20250108T103000
DTSTAMP:20260420T084705
CREATED:20250103T014446Z
LAST-MODIFIED:20250103T014446Z
UID:13896-1736326800-1736332200@fishcreekkidsacademy.com
SUMMARY:Soccer Shots
DESCRIPTION:
URL:https://fishcreekkidsacademy.com/event/soccer-shots-36/
CATEGORIES:FCKA Events
END:VEVENT
BEGIN:VEVENT
DTSTART;VALUE=DATE:20250110
DTEND;VALUE=DATE:20250111
DTSTAMP:20260420T084705
CREATED:20241003T215800Z
LAST-MODIFIED:20241003T215800Z
UID:13559-1736467200-1736553599@fishcreekkidsacademy.com
SUMMARY:National Kite Day
DESCRIPTION:
URL:https://fishcreekkidsacademy.com/event/national-kite-day/
CATEGORIES:FCKA Events
END:VEVENT
BEGIN:VEVENT
DTSTART;VALUE=DATE:20250110
DTEND;VALUE=DATE:20250111
DTSTAMP:20260420T084705
CREATED:20250103T014712Z
LAST-MODIFIED:20250103T014712Z
UID:13904-1736467200-1736553599@fishcreekkidsacademy.com
SUMMARY:Have Fun With Stickers Day
DESCRIPTION:
URL:https://fishcreekkidsacademy.com/event/have-fun-with-stickers-day-2/
CATEGORIES:FCKA Events
END:VEVENT
BEGIN:VEVENT
DTSTART;VALUE=DATE:20250113
DTEND;VALUE=DATE:20250114
DTSTAMP:20260420T084705
CREATED:20250103T014739Z
LAST-MODIFIED:20250103T014739Z
UID:13906-1736726400-1736812799@fishcreekkidsacademy.com
SUMMARY:Theme: Simple Machines
DESCRIPTION:
URL:https://fishcreekkidsacademy.com/event/theme-simple-machines-2/
CATEGORIES:FCKA Events
END:VEVENT
BEGIN:VEVENT
DTSTART;TZID=America/Chicago:20250114T103000
DTEND;TZID=America/Chicago:20250114T110000
DTSTAMP:20260420T084705
CREATED:20250103T014221Z
LAST-MODIFIED:20250103T014221Z
UID:13890-1736850600-1736852400@fishcreekkidsacademy.com
SUMMARY:Dance your Heart out
DESCRIPTION:
URL:https://fishcreekkidsacademy.com/event/dance-your-heart-out-32/
CATEGORIES:FCKA Events
END:VEVENT
BEGIN:VEVENT
DTSTART;VALUE=DATE:20250115
DTEND;VALUE=DATE:20250116
DTSTAMP:20260420T084705
CREATED:20241003T215008Z
LAST-MODIFIED:20241003T215008Z
UID:13541-1736899200-1736985599@fishcreekkidsacademy.com
SUMMARY:Hat Day
DESCRIPTION:
URL:https://fishcreekkidsacademy.com/event/hat-day-2/
CATEGORIES:FCKA Events
END:VEVENT
BEGIN:VEVENT
DTSTART;VALUE=DATE:20250115
DTEND;VALUE=DATE:20250116
DTSTAMP:20260420T084705
CREATED:20250103T014804Z
LAST-MODIFIED:20250103T014804Z
UID:13908-1736899200-1736985599@fishcreekkidsacademy.com
SUMMARY:National Hat Day
DESCRIPTION:
URL:https://fishcreekkidsacademy.com/event/national-hat-day/
CATEGORIES:FCKA Events
END:VEVENT
BEGIN:VEVENT
DTSTART;TZID=America/Chicago:20250115T090000
DTEND;TZID=America/Chicago:20250115T103000
DTSTAMP:20260420T084705
CREATED:20250103T014523Z
LAST-MODIFIED:20250103T014523Z
UID:13898-1736931600-1736937000@fishcreekkidsacademy.com
SUMMARY:Soccer Shots
DESCRIPTION:
URL:https://fishcreekkidsacademy.com/event/soccer-shots-37/
CATEGORIES:FCKA Events
END:VEVENT
BEGIN:VEVENT
DTSTART;TZID=America/Chicago:20250117T100000
DTEND;TZID=America/Chicago:20250117T101500
DTSTAMP:20260420T084705
CREATED:20250103T014843Z
LAST-MODIFIED:20250103T014843Z
UID:13910-1737108000-1737108900@fishcreekkidsacademy.com
SUMMARY:Assembly
DESCRIPTION:
URL:https://fishcreekkidsacademy.com/event/assembly-34/
CATEGORIES:FCKA Events
END:VEVENT
BEGIN:VEVENT
DTSTART;VALUE=DATE:20250120
DTEND;VALUE=DATE:20250121
DTSTAMP:20260420T084705
CREATED:20241003T215040Z
LAST-MODIFIED:20241003T215040Z
UID:13543-1737331200-1737417599@fishcreekkidsacademy.com
SUMMARY:ALL ISD’s Out for Martin Luther King Day
DESCRIPTION:
URL:https://fishcreekkidsacademy.com/event/all-isds-out-for-martin-luther-king-day/
CATEGORIES:FCKA Events
END:VEVENT
BEGIN:VEVENT
DTSTART;VALUE=DATE:20250120
DTEND;VALUE=DATE:20250121
DTSTAMP:20260420T084705
CREATED:20250103T015417Z
LAST-MODIFIED:20250103T015417Z
UID:13920-1737331200-1737417599@fishcreekkidsacademy.com
SUMMARY:Theme: Transportation
DESCRIPTION:
URL:https://fishcreekkidsacademy.com/event/theme-transportation-2/
CATEGORIES:FCKA Events
END:VEVENT
BEGIN:VEVENT
DTSTART;TZID=America/Chicago:20250121T103000
DTEND;TZID=America/Chicago:20250121T110000
DTSTAMP:20260420T084705
CREATED:20250103T014310Z
LAST-MODIFIED:20250103T014310Z
UID:13892-1737455400-1737457200@fishcreekkidsacademy.com
SUMMARY:Dance your Heart out
DESCRIPTION:
URL:https://fishcreekkidsacademy.com/event/dance-your-heart-out-33/
CATEGORIES:FCKA Events
END:VEVENT
BEGIN:VEVENT
DTSTART;TZID=America/Chicago:20250122T090000
DTEND;TZID=America/Chicago:20250122T103000
DTSTAMP:20260420T084705
CREATED:20250103T014602Z
LAST-MODIFIED:20250103T014602Z
UID:13900-1737536400-1737541800@fishcreekkidsacademy.com
SUMMARY:Soccer Shots
DESCRIPTION:
URL:https://fishcreekkidsacademy.com/event/soccer-shots-38/
CATEGORIES:FCKA Events
END:VEVENT
BEGIN:VEVENT
DTSTART;VALUE=DATE:20250124
DTEND;VALUE=DATE:20250125
DTSTAMP:20260420T084705
CREATED:20241003T215116Z
LAST-MODIFIED:20241003T215116Z
UID:13545-1737676800-1737763199@fishcreekkidsacademy.com
SUMMARY:Fun @ Work & Kazoo Day
DESCRIPTION:
URL:https://fishcreekkidsacademy.com/event/fun-work-kazoo-day/
CATEGORIES:FCKA Events
END:VEVENT
BEGIN:VEVENT
DTSTART;TZID=America/Chicago:20250124T100000
DTEND;TZID=America/Chicago:20250124T101500
DTSTAMP:20260420T084705
CREATED:20250103T014929Z
LAST-MODIFIED:20250103T014929Z
UID:13912-1737712800-1737713700@fishcreekkidsacademy.com
SUMMARY:Assembly
DESCRIPTION:
URL:https://fishcreekkidsacademy.com/event/assembly-35/
CATEGORIES:FCKA Events
END:VEVENT
BEGIN:VEVENT
DTSTART;VALUE=DATE:20250127
DTEND;VALUE=DATE:20250128
DTSTAMP:20260420T084706
CREATED:20241003T215148Z
LAST-MODIFIED:20241003T215148Z
UID:13547-1737936000-1738022399@fishcreekkidsacademy.com
SUMMARY:National Bubble Wrap Day
DESCRIPTION:
URL:https://fishcreekkidsacademy.com/event/national-bubble-wrap-day/
CATEGORIES:FCKA Events
END:VEVENT
BEGIN:VEVENT
DTSTART;VALUE=DATE:20250127
DTEND;VALUE=DATE:20250128
DTSTAMP:20260420T084706
CREATED:20250103T015325Z
LAST-MODIFIED:20250103T015325Z
UID:13918-1737936000-1738022399@fishcreekkidsacademy.com
SUMMARY:Theme: Pets
DESCRIPTION:
URL:https://fishcreekkidsacademy.com/event/theme-pets-2/
CATEGORIES:FCKA Events
END:VEVENT
BEGIN:VEVENT
DTSTART;VALUE=DATE:20250127
DTEND;VALUE=DATE:20250201
DTSTAMP:20260420T084706
CREATED:20241003T215349Z
LAST-MODIFIED:20241003T215349Z
UID:13553-1737936000-1738367999@fishcreekkidsacademy.com
SUMMARY:7th Annual Science Fair
DESCRIPTION:
URL:https://fishcreekkidsacademy.com/event/7th-annual-science-fair/
CATEGORIES:FCKA Events
END:VEVENT
BEGIN:VEVENT
DTSTART;TZID=America/Chicago:20250128T103000
DTEND;TZID=America/Chicago:20250128T110000
DTSTAMP:20260420T084706
CREATED:20250103T014346Z
LAST-MODIFIED:20250103T014346Z
UID:13894-1738060200-1738062000@fishcreekkidsacademy.com
SUMMARY:Dance your Heart out
DESCRIPTION:
URL:https://fishcreekkidsacademy.com/event/dance-your-heart-out-34/
CATEGORIES:FCKA Events
END:VEVENT
BEGIN:VEVENT
DTSTART;VALUE=DATE:20250129
DTEND;VALUE=DATE:20250130
DTSTAMP:20260420T084706
CREATED:20241003T215226Z
LAST-MODIFIED:20241003T215226Z
UID:13549-1738108800-1738195199@fishcreekkidsacademy.com
SUMMARY:National Puzzle Day
DESCRIPTION:
URL:https://fishcreekkidsacademy.com/event/national-puzzle-day/
CATEGORIES:FCKA Events
END:VEVENT
BEGIN:VEVENT
DTSTART;TZID=America/Chicago:20250129T090000
DTEND;TZID=America/Chicago:20250129T103000
DTSTAMP:20260420T084706
CREATED:20250103T014639Z
LAST-MODIFIED:20250103T014639Z
UID:13902-1738141200-1738146600@fishcreekkidsacademy.com
SUMMARY:Soccer Shots
DESCRIPTION:
URL:https://fishcreekkidsacademy.com/event/soccer-shots-39/
CATEGORIES:FCKA Events
END:VEVENT
BEGIN:VEVENT
DTSTART;VALUE=DATE:20250130
DTEND;VALUE=DATE:20250131
DTSTAMP:20260420T084706
CREATED:20250103T015239Z
LAST-MODIFIED:20250103T015239Z
UID:13916-1738195200-1738281599@fishcreekkidsacademy.com
SUMMARY:Science Fair - winners announced
DESCRIPTION:
URL:https://fishcreekkidsacademy.com/event/science-fair-winners-announced/
CATEGORIES:FCKA Events
END:VEVENT
BEGIN:VEVENT
DTSTART;VALUE=DATE:20250131
DTEND;VALUE=DATE:20250201
DTSTAMP:20260420T084706
CREATED:20241003T215304Z
LAST-MODIFIED:20241003T215304Z
UID:13551-1738281600-1738367999@fishcreekkidsacademy.com
SUMMARY:Backwards Dress Up
DESCRIPTION:
URL:https://fishcreekkidsacademy.com/event/backwards-dress-up/
CATEGORIES:FCKA Events
END:VEVENT
BEGIN:VEVENT
DTSTART;TZID=America/Chicago:20250131T100000
DTEND;TZID=America/Chicago:20250131T101500
DTSTAMP:20260420T084706
CREATED:20250103T015134Z
LAST-MODIFIED:20250103T015134Z
UID:13914-1738317600-1738318500@fishcreekkidsacademy.com
SUMMARY:Assembly
DESCRIPTION:
URL:https://fishcreekkidsacademy.com/event/assembly-36/
CATEGORIES:FCKA Events
END:VEVENT
END:VCALENDAR