BEGIN:VCALENDAR
VERSION:2.0
PRODID:-//Fish Creek Kids Academy - ECPv6.15.20//NONSGML v1.0//EN
CALSCALE:GREGORIAN
METHOD:PUBLISH
X-WR-CALNAME:Fish Creek Kids Academy
X-ORIGINAL-URL:https://fishcreekkidsacademy.com
X-WR-CALDESC:Events for Fish Creek Kids Academy
REFRESH-INTERVAL;VALUE=DURATION:PT1H
X-Robots-Tag:noindex
X-PUBLISHED-TTL:PT1H
BEGIN:VTIMEZONE
TZID:America/Chicago
BEGIN:DAYLIGHT
TZOFFSETFROM:-0600
TZOFFSETTO:-0500
TZNAME:CDT
DTSTART:20240310T080000
END:DAYLIGHT
BEGIN:STANDARD
TZOFFSETFROM:-0500
TZOFFSETTO:-0600
TZNAME:CST
DTSTART:20241103T070000
END:STANDARD
BEGIN:DAYLIGHT
TZOFFSETFROM:-0600
TZOFFSETTO:-0500
TZNAME:CDT
DTSTART:20250309T080000
END:DAYLIGHT
BEGIN:STANDARD
TZOFFSETFROM:-0500
TZOFFSETTO:-0600
TZNAME:CST
DTSTART:20251102T070000
END:STANDARD
BEGIN:DAYLIGHT
TZOFFSETFROM:-0600
TZOFFSETTO:-0500
TZNAME:CDT
DTSTART:20260308T080000
END:DAYLIGHT
BEGIN:STANDARD
TZOFFSETFROM:-0500
TZOFFSETTO:-0600
TZNAME:CST
DTSTART:20261101T070000
END:STANDARD
END:VTIMEZONE
BEGIN:VEVENT
DTSTART;VALUE=DATE:20250201
DTEND;VALUE=DATE:20250301
DTSTAMP:20260420T071137
CREATED:20241003T220456Z
LAST-MODIFIED:20241003T220456Z
UID:13575-1738368000-1740787199@fishcreekkidsacademy.com
SUMMARY:Dental Health Month
DESCRIPTION:
URL:https://fishcreekkidsacademy.com/event/dental-health-month/
CATEGORIES:FCKA Events
END:VEVENT
BEGIN:VEVENT
DTSTART;VALUE=DATE:20250201
DTEND;VALUE=DATE:20250301
DTSTAMP:20260420T071137
CREATED:20241003T220557Z
LAST-MODIFIED:20241003T220557Z
UID:13577-1738368000-1740787199@fishcreekkidsacademy.com
SUMMARY:Vision & Health Screening: TBA
DESCRIPTION:
URL:https://fishcreekkidsacademy.com/event/vision-health-screening-tba/
CATEGORIES:FCKA Events
END:VEVENT
BEGIN:VEVENT
DTSTART;TZID=America/Chicago:20250204T103000
DTEND;TZID=America/Chicago:20250204T110000
DTSTAMP:20260420T071137
CREATED:20250122T182108Z
LAST-MODIFIED:20250122T182108Z
UID:13980-1738665000-1738666800@fishcreekkidsacademy.com
SUMMARY:Dance your Heart out
DESCRIPTION:
URL:https://fishcreekkidsacademy.com/event/dance-your-heart-out-35/
CATEGORIES:FCKA Events
END:VEVENT
BEGIN:VEVENT
DTSTART;TZID=America/Chicago:20250205T090000
DTEND;TZID=America/Chicago:20250205T103000
DTSTAMP:20260420T071137
CREATED:20250122T182406Z
LAST-MODIFIED:20250122T182406Z
UID:13986-1738746000-1738751400@fishcreekkidsacademy.com
SUMMARY:Soccer Shots
DESCRIPTION:
URL:https://fishcreekkidsacademy.com/event/soccer-shots-40/
CATEGORIES:FCKA Events
END:VEVENT
BEGIN:VEVENT
DTSTART;VALUE=DATE:20250206
DTEND;VALUE=DATE:20250207
DTSTAMP:20260420T071137
CREATED:20241003T215547Z
LAST-MODIFIED:20241003T215547Z
UID:13555-1738800000-1738886399@fishcreekkidsacademy.com
SUMMARY:Fun with Chopsticks Day
DESCRIPTION:
URL:https://fishcreekkidsacademy.com/event/fun-with-chopsticks-day/
CATEGORIES:FCKA Events
END:VEVENT
BEGIN:VEVENT
DTSTART;VALUE=DATE:20250207
DTEND;VALUE=DATE:20250208
DTSTAMP:20260420T071137
CREATED:20241003T215634Z
LAST-MODIFIED:20241003T215634Z
UID:13557-1738886400-1738972799@fishcreekkidsacademy.com
SUMMARY:Wear Red Day
DESCRIPTION:
URL:https://fishcreekkidsacademy.com/event/wear-red-day/
CATEGORIES:FCKA Events
END:VEVENT
BEGIN:VEVENT
DTSTART;VALUE=DATE:20250210
DTEND;VALUE=DATE:20250211
DTSTAMP:20260420T071137
CREATED:20250122T182908Z
LAST-MODIFIED:20250122T182908Z
UID:13994-1739145600-1739231999@fishcreekkidsacademy.com
SUMMARY:Theme: Valentines
DESCRIPTION:
URL:https://fishcreekkidsacademy.com/event/theme-valentines-2/
CATEGORIES:FCKA Events
END:VEVENT
BEGIN:VEVENT
DTSTART;VALUE=DATE:20250210
DTEND;VALUE=DATE:20250211
DTSTAMP:20260420T071137
CREATED:20250122T182953Z
LAST-MODIFIED:20250122T182953Z
UID:13996-1739145600-1739231999@fishcreekkidsacademy.com
SUMMARY:National Kite Flying Day
DESCRIPTION:
URL:https://fishcreekkidsacademy.com/event/national-kite-flying-day-2/
CATEGORIES:FCKA Events
END:VEVENT
BEGIN:VEVENT
DTSTART;TZID=America/Chicago:20250211T103000
DTEND;TZID=America/Chicago:20250211T110000
DTSTAMP:20260420T071137
CREATED:20250122T182206Z
LAST-MODIFIED:20250122T182206Z
UID:13982-1739269800-1739271600@fishcreekkidsacademy.com
SUMMARY:Dance your Heart out
DESCRIPTION:
URL:https://fishcreekkidsacademy.com/event/dance-your-heart-out-36/
CATEGORIES:FCKA Events
END:VEVENT
BEGIN:VEVENT
DTSTART;TZID=America/Chicago:20250212T090000
DTEND;TZID=America/Chicago:20250212T103000
DTSTAMP:20260420T071137
CREATED:20250122T182453Z
LAST-MODIFIED:20250122T182453Z
UID:13988-1739350800-1739356200@fishcreekkidsacademy.com
SUMMARY:Soccer Shots
DESCRIPTION:
URL:https://fishcreekkidsacademy.com/event/soccer-shots-41/
CATEGORIES:FCKA Events
END:VEVENT
BEGIN:VEVENT
DTSTART;TZID=America/Chicago:20250213T100000
DTEND;TZID=America/Chicago:20250213T101500
DTSTAMP:20260420T071137
CREATED:20250122T182643Z
LAST-MODIFIED:20250122T182643Z
UID:13992-1739440800-1739441700@fishcreekkidsacademy.com
SUMMARY:Assembly
DESCRIPTION:
URL:https://fishcreekkidsacademy.com/event/assembly-37/
CATEGORIES:FCKA Events
END:VEVENT
BEGIN:VEVENT
DTSTART;VALUE=DATE:20250214
DTEND;VALUE=DATE:20250215
DTSTAMP:20260420T071137
CREATED:20241003T215902Z
LAST-MODIFIED:20241003T215902Z
UID:13561-1739491200-1739577599@fishcreekkidsacademy.com
SUMMARY:Valentines Class Parties
DESCRIPTION:
URL:https://fishcreekkidsacademy.com/event/valentines-class-parties/
CATEGORIES:FCKA Events
END:VEVENT
BEGIN:VEVENT
DTSTART;VALUE=DATE:20250214
DTEND;VALUE=DATE:20250215
DTSTAMP:20260420T071137
CREATED:20241003T215940Z
LAST-MODIFIED:20241003T215940Z
UID:13563-1739491200-1739577599@fishcreekkidsacademy.com
SUMMARY:No Conroe ISD
DESCRIPTION:
URL:https://fishcreekkidsacademy.com/event/no-conroe-isd/
CATEGORIES:FCKA Events
END:VEVENT
BEGIN:VEVENT
DTSTART;VALUE=DATE:20250217
DTEND;VALUE=DATE:20250218
DTSTAMP:20260420T071137
CREATED:20241003T220028Z
LAST-MODIFIED:20241003T220028Z
UID:13565-1739750400-1739836799@fishcreekkidsacademy.com
SUMMARY:President’s Day—ALL ISD’S Out
DESCRIPTION:
URL:https://fishcreekkidsacademy.com/event/presidents-day-all-isds-out/
CATEGORIES:FCKA Events
END:VEVENT
BEGIN:VEVENT
DTSTART;VALUE=DATE:20250218
DTEND;VALUE=DATE:20250219
DTSTAMP:20260420T071137
CREATED:20241003T220128Z
LAST-MODIFIED:20241003T220128Z
UID:13567-1739836800-1739923199@fishcreekkidsacademy.com
SUMMARY:No Magnolia ISD
DESCRIPTION:
URL:https://fishcreekkidsacademy.com/event/no-magnolia-isd/
CATEGORIES:FCKA Events
END:VEVENT
BEGIN:VEVENT
DTSTART;TZID=America/Chicago:20250218T103000
DTEND;TZID=America/Chicago:20250218T110000
DTSTAMP:20260420T071137
CREATED:20250122T182256Z
LAST-MODIFIED:20250122T182256Z
UID:13984-1739874600-1739876400@fishcreekkidsacademy.com
SUMMARY:Dance your Heart out
DESCRIPTION:
URL:https://fishcreekkidsacademy.com/event/dance-your-heart-out-37/
CATEGORIES:FCKA Events
END:VEVENT
BEGIN:VEVENT
DTSTART;TZID=America/Chicago:20250219T090000
DTEND;TZID=America/Chicago:20250219T103000
DTSTAMP:20260420T071137
CREATED:20250122T182552Z
LAST-MODIFIED:20250122T182552Z
UID:13990-1739955600-1739961000@fishcreekkidsacademy.com
SUMMARY:Soccer Shots
DESCRIPTION:
URL:https://fishcreekkidsacademy.com/event/soccer-shots-42/
CATEGORIES:FCKA Events
END:VEVENT
BEGIN:VEVENT
DTSTART;VALUE=DATE:20250221
DTEND;VALUE=DATE:20250222
DTSTAMP:20260420T071137
CREATED:20241003T220214Z
LAST-MODIFIED:20241003T220214Z
UID:13569-1740096000-1740182399@fishcreekkidsacademy.com
SUMMARY:Go Texan Day—Dress Up
DESCRIPTION:
URL:https://fishcreekkidsacademy.com/event/go-texan-day-dress-up/
CATEGORIES:FCKA Events
END:VEVENT
BEGIN:VEVENT
DTSTART;VALUE=DATE:20250222
DTEND;VALUE=DATE:20250223
DTSTAMP:20260420T071137
CREATED:20241003T220317Z
LAST-MODIFIED:20241003T220317Z
UID:13571-1740182400-1740268799@fishcreekkidsacademy.com
SUMMARY:Mandatory Staff Training
DESCRIPTION:
URL:https://fishcreekkidsacademy.com/event/mandatory-staff-training-3/
CATEGORIES:FCKA Events
END:VEVENT
BEGIN:VEVENT
DTSTART;VALUE=DATE:20250222
DTEND;VALUE=DATE:20250223
DTSTAMP:20260420T071137
CREATED:20250122T183210Z
LAST-MODIFIED:20250122T183336Z
UID:13998-1740182400-1740268799@fishcreekkidsacademy.com
SUMMARY:Pajama Day
DESCRIPTION:Wear your Pajamas!
URL:https://fishcreekkidsacademy.com/event/pajama-day-5/
CATEGORIES:FCKA Events
END:VEVENT
BEGIN:VEVENT
DTSTART;VALUE=DATE:20250222
DTEND;VALUE=DATE:20250223
DTSTAMP:20260420T071137
CREATED:20250122T183248Z
LAST-MODIFIED:20250122T183248Z
UID:14000-1740182400-1740268799@fishcreekkidsacademy.com
SUMMARY:Theme: Dr. Seuss
DESCRIPTION:
URL:https://fishcreekkidsacademy.com/event/theme-dr-seuss/
CATEGORIES:FCKA Events
END:VEVENT
BEGIN:VEVENT
DTSTART;VALUE=DATE:20250223
DTEND;VALUE=DATE:20250224
DTSTAMP:20260420T071137
CREATED:20250122T183410Z
LAST-MODIFIED:20250122T183410Z
UID:14002-1740268800-1740355199@fishcreekkidsacademy.com
SUMMARY:Silly Hair - Wacky Hair
DESCRIPTION:
URL:https://fishcreekkidsacademy.com/event/silly-hair-wacky-hair/
CATEGORIES:FCKA Events
END:VEVENT
BEGIN:VEVENT
DTSTART;VALUE=DATE:20250224
DTEND;VALUE=DATE:20250225
DTSTAMP:20260420T071137
CREATED:20250122T183457Z
LAST-MODIFIED:20250122T183457Z
UID:14004-1740355200-1740441599@fishcreekkidsacademy.com
SUMMARY:Green Day
DESCRIPTION:Wear all Green!
URL:https://fishcreekkidsacademy.com/event/green-day/
CATEGORIES:FCKA Events
END:VEVENT
BEGIN:VEVENT
DTSTART;VALUE=DATE:20250224
DTEND;VALUE=DATE:20250225
DTSTAMP:20260420T071137
CREATED:20250224T170218Z
LAST-MODIFIED:20250224T170218Z
UID:14191-1740355200-1740441599@fishcreekkidsacademy.com
SUMMARY:Theme: Weather
DESCRIPTION:
URL:https://fishcreekkidsacademy.com/event/theme-weather-2/
CATEGORIES:FCKA Events
END:VEVENT
BEGIN:VEVENT
DTSTART;VALUE=DATE:20250224
DTEND;VALUE=DATE:20250301
DTSTAMP:20260420T071137
CREATED:20241003T220358Z
LAST-MODIFIED:20241003T220358Z
UID:13573-1740355200-1740787199@fishcreekkidsacademy.com
SUMMARY:Dr Seuss Week
DESCRIPTION:
URL:https://fishcreekkidsacademy.com/event/dr-seuss-week/
CATEGORIES:FCKA Events
END:VEVENT
BEGIN:VEVENT
DTSTART;VALUE=DATE:20250225
DTEND;VALUE=DATE:20250226
DTSTAMP:20260420T071137
CREATED:20250122T183537Z
LAST-MODIFIED:20250122T183537Z
UID:14006-1740441600-1740527999@fishcreekkidsacademy.com
SUMMARY:Silly Socks
DESCRIPTION:Wear your sillest socks!
URL:https://fishcreekkidsacademy.com/event/silly-socks/
CATEGORIES:FCKA Events
END:VEVENT
BEGIN:VEVENT
DTSTART;VALUE=DATE:20250226
DTEND;VALUE=DATE:20250227
DTSTAMP:20260420T071137
CREATED:20250122T183630Z
LAST-MODIFIED:20250122T183630Z
UID:14008-1740528000-1740614399@fishcreekkidsacademy.com
SUMMARY:Seuss Style
DESCRIPTION:Character\, mismatched\, Backwards\, Inside out\, Patterns\, You Choose for birthday bash!
URL:https://fishcreekkidsacademy.com/event/seuss-style/
CATEGORIES:FCKA Events
END:VEVENT
END:VCALENDAR