BEGIN:VCALENDAR
VERSION:2.0
PRODID:-//Fish Creek Kids Academy - ECPv6.15.20//NONSGML v1.0//EN
CALSCALE:GREGORIAN
METHOD:PUBLISH
X-WR-CALNAME:Fish Creek Kids Academy
X-ORIGINAL-URL:https://fishcreekkidsacademy.com
X-WR-CALDESC:Events for Fish Creek Kids Academy
REFRESH-INTERVAL;VALUE=DURATION:PT1H
X-Robots-Tag:noindex
X-PUBLISHED-TTL:PT1H
BEGIN:VTIMEZONE
TZID:America/Chicago
BEGIN:DAYLIGHT
TZOFFSETFROM:-0600
TZOFFSETTO:-0500
TZNAME:CDT
DTSTART:20240310T080000
END:DAYLIGHT
BEGIN:STANDARD
TZOFFSETFROM:-0500
TZOFFSETTO:-0600
TZNAME:CST
DTSTART:20241103T070000
END:STANDARD
BEGIN:DAYLIGHT
TZOFFSETFROM:-0600
TZOFFSETTO:-0500
TZNAME:CDT
DTSTART:20250309T080000
END:DAYLIGHT
BEGIN:STANDARD
TZOFFSETFROM:-0500
TZOFFSETTO:-0600
TZNAME:CST
DTSTART:20251102T070000
END:STANDARD
BEGIN:DAYLIGHT
TZOFFSETFROM:-0600
TZOFFSETTO:-0500
TZNAME:CDT
DTSTART:20260308T080000
END:DAYLIGHT
BEGIN:STANDARD
TZOFFSETFROM:-0500
TZOFFSETTO:-0600
TZNAME:CST
DTSTART:20261101T070000
END:STANDARD
END:VTIMEZONE
BEGIN:VEVENT
DTSTART;VALUE=DATE:20250303
DTEND;VALUE=DATE:20250304
DTSTAMP:20260420T052403
CREATED:20250122T183709Z
LAST-MODIFIED:20250122T183709Z
UID:14010-1740960000-1741046399@fishcreekkidsacademy.com
SUMMARY:Ask your child's teacher where to find the weekly lesson plans
DESCRIPTION:
URL:https://fishcreekkidsacademy.com/event/ask-your-childs-teacher-where-to-find-the-weekly-lesson-plans/
CATEGORIES:FCKA Events
END:VEVENT
BEGIN:VEVENT
DTSTART;VALUE=DATE:20250304
DTEND;VALUE=DATE:20250305
DTSTAMP:20260420T052403
CREATED:20241003T221145Z
LAST-MODIFIED:20241003T221145Z
UID:13581-1741046400-1741132799@fishcreekkidsacademy.com
SUMMARY:Mardi Gras
DESCRIPTION:
URL:https://fishcreekkidsacademy.com/event/mardi-gras/
CATEGORIES:FCKA Events
END:VEVENT
BEGIN:VEVENT
DTSTART;VALUE=DATE:20250305
DTEND;VALUE=DATE:20250306
DTSTAMP:20260420T052403
CREATED:20241003T221105Z
LAST-MODIFIED:20241003T221105Z
UID:13579-1741132800-1741219199@fishcreekkidsacademy.com
SUMMARY:FCKA Turns 9!
DESCRIPTION:
URL:https://fishcreekkidsacademy.com/event/fcka-turns-9/
CATEGORIES:FCKA Events
END:VEVENT
BEGIN:VEVENT
DTSTART;TZID=America/Chicago:20250305T090000
DTEND;TZID=America/Chicago:20250305T103000
DTSTAMP:20260420T052403
CREATED:20250224T165539Z
LAST-MODIFIED:20250224T165539Z
UID:14180-1741165200-1741170600@fishcreekkidsacademy.com
SUMMARY:Soccer Shots
DESCRIPTION:
URL:https://fishcreekkidsacademy.com/event/soccer-shots-43/
CATEGORIES:FCKA Events
END:VEVENT
BEGIN:VEVENT
DTSTART;VALUE=DATE:20250306
DTEND;VALUE=DATE:20250307
DTSTAMP:20260420T052403
CREATED:20241003T221230Z
LAST-MODIFIED:20241003T221230Z
UID:13583-1741219200-1741305599@fishcreekkidsacademy.com
SUMMARY:Oreo Day
DESCRIPTION:
URL:https://fishcreekkidsacademy.com/event/oreo-day/
CATEGORIES:FCKA Events
END:VEVENT
BEGIN:VEVENT
DTSTART;VALUE=DATE:20250307
DTEND;VALUE=DATE:20250308
DTSTAMP:20260420T052403
CREATED:20241003T221305Z
LAST-MODIFIED:20241003T221305Z
UID:13585-1741305600-1741391999@fishcreekkidsacademy.com
SUMMARY:Wear Blue
DESCRIPTION:
URL:https://fishcreekkidsacademy.com/event/wear-blue/
CATEGORIES:FCKA Events
END:VEVENT
BEGIN:VEVENT
DTSTART;VALUE=DATE:20250309
DTEND;VALUE=DATE:20250310
DTSTAMP:20260420T052403
CREATED:20241003T221343Z
LAST-MODIFIED:20241003T221343Z
UID:13587-1741478400-1741564799@fishcreekkidsacademy.com
SUMMARY:Daylight Savings Time
DESCRIPTION:
URL:https://fishcreekkidsacademy.com/event/daylight-savings-time-2/
CATEGORIES:FCKA Events
END:VEVENT
BEGIN:VEVENT
DTSTART;VALUE=DATE:20250310
DTEND;VALUE=DATE:20250311
DTSTAMP:20260420T052403
CREATED:20241003T221444Z
LAST-MODIFIED:20241003T221444Z
UID:13589-1741564800-1741651199@fishcreekkidsacademy.com
SUMMARY:Pack Your Lunch Day
DESCRIPTION:
URL:https://fishcreekkidsacademy.com/event/pack-your-lunch-day/
CATEGORIES:FCKA Events
END:VEVENT
BEGIN:VEVENT
DTSTART;VALUE=DATE:20250310
DTEND;VALUE=DATE:20250315
DTSTAMP:20260420T052403
CREATED:20241003T221751Z
LAST-MODIFIED:20241003T221751Z
UID:13591-1741564800-1741996799@fishcreekkidsacademy.com
SUMMARY:Spring Break-All ISD’s Out; FCKA Spring Break Camp
DESCRIPTION:
URL:https://fishcreekkidsacademy.com/event/spring-break-all-isds-out-fcka-spring-break-camp/
CATEGORIES:FCKA Events
END:VEVENT
BEGIN:VEVENT
DTSTART;TZID=America/Chicago:20250311T103000
DTEND;TZID=America/Chicago:20250311T110000
DTSTAMP:20260420T052403
CREATED:20250224T165208Z
LAST-MODIFIED:20250224T165331Z
UID:14174-1741689000-1741690800@fishcreekkidsacademy.com
SUMMARY:Dance your Heart out
DESCRIPTION:
URL:https://fishcreekkidsacademy.com/event/dance-your-heart-out-38/
CATEGORIES:FCKA Events
END:VEVENT
BEGIN:VEVENT
DTSTART;TZID=America/Chicago:20250314T100000
DTEND;TZID=America/Chicago:20250314T101500
DTSTAMP:20260420T052403
CREATED:20250224T165820Z
LAST-MODIFIED:20250224T165820Z
UID:14187-1741946400-1741947300@fishcreekkidsacademy.com
SUMMARY:Assembly
DESCRIPTION:
URL:https://fishcreekkidsacademy.com/event/assembly-39/
CATEGORIES:FCKA Events
END:VEVENT
BEGIN:VEVENT
DTSTART;VALUE=DATE:20250317
DTEND;VALUE=DATE:20250318
DTSTAMP:20260420T052403
CREATED:20241003T221852Z
LAST-MODIFIED:20241003T221852Z
UID:13593-1742169600-1742255999@fishcreekkidsacademy.com
SUMMARY:St. Patrick’s Day Party
DESCRIPTION:
URL:https://fishcreekkidsacademy.com/event/st-patricks-day-party/
CATEGORIES:FCKA Events
END:VEVENT
BEGIN:VEVENT
DTSTART;TZID=America/Chicago:20250318T103000
DTEND;TZID=America/Chicago:20250318T110000
DTSTAMP:20260420T052403
CREATED:20250224T165306Z
LAST-MODIFIED:20250224T165306Z
UID:14176-1742293800-1742295600@fishcreekkidsacademy.com
SUMMARY:Dance your Heart out
DESCRIPTION:
URL:https://fishcreekkidsacademy.com/event/dance-your-heart-out-39/
CATEGORIES:FCKA Events
END:VEVENT
BEGIN:VEVENT
DTSTART;TZID=America/Chicago:20250319T090000
DTEND;TZID=America/Chicago:20250319T103000
DTSTAMP:20260420T052403
CREATED:20250224T165627Z
LAST-MODIFIED:20250224T165652Z
UID:14183-1742374800-1742380200@fishcreekkidsacademy.com
SUMMARY:Soccer Shots
DESCRIPTION:
URL:https://fishcreekkidsacademy.com/event/soccer-shots-44/
CATEGORIES:FCKA Events
END:VEVENT
BEGIN:VEVENT
DTSTART;VALUE=DATE:20250320
DTEND;VALUE=DATE:20250321
DTSTAMP:20260420T052403
CREATED:20241003T221933Z
LAST-MODIFIED:20241003T221933Z
UID:13595-1742428800-1742515199@fishcreekkidsacademy.com
SUMMARY:Spring Equinox
DESCRIPTION:
URL:https://fishcreekkidsacademy.com/event/spring-equinox/
CATEGORIES:FCKA Events
END:VEVENT
BEGIN:VEVENT
DTSTART;TZID=America/Chicago:20250321T100000
DTEND;TZID=America/Chicago:20250321T101500
DTSTAMP:20260420T052403
CREATED:20250122T184102Z
LAST-MODIFIED:20250224T165900Z
UID:14014-1742551200-1742552100@fishcreekkidsacademy.com
SUMMARY:Assembly
DESCRIPTION:
URL:https://fishcreekkidsacademy.com/event/assembly-38/
CATEGORIES:FCKA Events
END:VEVENT
BEGIN:VEVENT
DTSTART;TZID=America/Chicago:20250325T103000
DTEND;TZID=America/Chicago:20250325T110000
DTSTAMP:20260420T052403
CREATED:20250224T165409Z
LAST-MODIFIED:20250224T165409Z
UID:14178-1742898600-1742900400@fishcreekkidsacademy.com
SUMMARY:Dance your Heart out
DESCRIPTION:
URL:https://fishcreekkidsacademy.com/event/dance-your-heart-out-40/
CATEGORIES:FCKA Events
END:VEVENT
BEGIN:VEVENT
DTSTART;VALUE=DATE:20250326
DTEND;VALUE=DATE:20250327
DTSTAMP:20260420T052403
CREATED:20241003T222012Z
LAST-MODIFIED:20241003T222012Z
UID:13597-1742947200-1743033599@fishcreekkidsacademy.com
SUMMARY:Wear Purple Day
DESCRIPTION:
URL:https://fishcreekkidsacademy.com/event/wear-purple-day/
CATEGORIES:FCKA Events
END:VEVENT
BEGIN:VEVENT
DTSTART;TZID=America/Chicago:20250326T090000
DTEND;TZID=America/Chicago:20250326T103000
DTSTAMP:20260420T052403
CREATED:20250224T165737Z
LAST-MODIFIED:20250224T165737Z
UID:14185-1742979600-1742985000@fishcreekkidsacademy.com
SUMMARY:Soccer Shots
DESCRIPTION:
URL:https://fishcreekkidsacademy.com/event/soccer-shots-45/
CATEGORIES:FCKA Events
END:VEVENT
BEGIN:VEVENT
DTSTART;VALUE=DATE:20250327
DTEND;VALUE=DATE:20250328
DTSTAMP:20260420T052403
CREATED:20241003T222106Z
LAST-MODIFIED:20241003T222106Z
UID:13599-1743033600-1743119999@fishcreekkidsacademy.com
SUMMARY:St. Jude’s Trike-a-thon
DESCRIPTION:
URL:https://fishcreekkidsacademy.com/event/st-judes-trike-a-thon/
CATEGORIES:FCKA Events
END:VEVENT
BEGIN:VEVENT
DTSTART;TZID=America/Chicago:20250328T100000
DTEND;TZID=America/Chicago:20250328T101500
DTSTAMP:20260420T052403
CREATED:20250224T170007Z
LAST-MODIFIED:20250224T170007Z
UID:14189-1743156000-1743156900@fishcreekkidsacademy.com
SUMMARY:Assembly
DESCRIPTION:
URL:https://fishcreekkidsacademy.com/event/assembly-40/
CATEGORIES:FCKA Events
END:VEVENT
BEGIN:VEVENT
DTSTART;VALUE=DATE:20250331
DTEND;VALUE=DATE:20250401
DTSTAMP:20260420T052403
CREATED:20241003T222154Z
LAST-MODIFIED:20241003T222154Z
UID:13601-1743379200-1743465599@fishcreekkidsacademy.com
SUMMARY:National Crayon Day
DESCRIPTION:
URL:https://fishcreekkidsacademy.com/event/national-crayon-day/
CATEGORIES:FCKA Events
END:VEVENT
BEGIN:VEVENT
DTSTART;VALUE=DATE:20250331
DTEND;VALUE=DATE:20250401
DTSTAMP:20260420T052403
CREATED:20250224T170355Z
LAST-MODIFIED:20250224T170355Z
UID:14193-1743379200-1743465599@fishcreekkidsacademy.com
SUMMARY:Theme: Flowers and Plants
DESCRIPTION:
URL:https://fishcreekkidsacademy.com/event/theme-flowers-and-plants-2/
CATEGORIES:FCKA Events
END:VEVENT
BEGIN:VEVENT
DTSTART;VALUE=DATE:20250331
DTEND;VALUE=DATE:20250401
DTSTAMP:20260420T052403
CREATED:20250401T201552Z
LAST-MODIFIED:20250401T201552Z
UID:14541-1743379200-1743465599@fishcreekkidsacademy.com
SUMMARY:Theme: Insects
DESCRIPTION:
URL:https://fishcreekkidsacademy.com/event/theme-insects-2/
CATEGORIES:FCKA Events
END:VEVENT
END:VCALENDAR