BEGIN:VCALENDAR
VERSION:2.0
PRODID:-//Fish Creek Kids Academy - ECPv6.15.20//NONSGML v1.0//EN
CALSCALE:GREGORIAN
METHOD:PUBLISH
X-WR-CALNAME:Fish Creek Kids Academy
X-ORIGINAL-URL:https://fishcreekkidsacademy.com
X-WR-CALDESC:Events for Fish Creek Kids Academy
REFRESH-INTERVAL;VALUE=DURATION:PT1H
X-Robots-Tag:noindex
X-PUBLISHED-TTL:PT1H
BEGIN:VTIMEZONE
TZID:America/Chicago
BEGIN:DAYLIGHT
TZOFFSETFROM:-0600
TZOFFSETTO:-0500
TZNAME:CDT
DTSTART:20240310T080000
END:DAYLIGHT
BEGIN:STANDARD
TZOFFSETFROM:-0500
TZOFFSETTO:-0600
TZNAME:CST
DTSTART:20241103T070000
END:STANDARD
BEGIN:DAYLIGHT
TZOFFSETFROM:-0600
TZOFFSETTO:-0500
TZNAME:CDT
DTSTART:20250309T080000
END:DAYLIGHT
BEGIN:STANDARD
TZOFFSETFROM:-0500
TZOFFSETTO:-0600
TZNAME:CST
DTSTART:20251102T070000
END:STANDARD
BEGIN:DAYLIGHT
TZOFFSETFROM:-0600
TZOFFSETTO:-0500
TZNAME:CDT
DTSTART:20260308T080000
END:DAYLIGHT
BEGIN:STANDARD
TZOFFSETFROM:-0500
TZOFFSETTO:-0600
TZNAME:CST
DTSTART:20261101T070000
END:STANDARD
END:VTIMEZONE
BEGIN:VEVENT
DTSTART;VALUE=DATE:20250401
DTEND;VALUE=DATE:20250402
DTSTAMP:20260420T035846
CREATED:20241003T222257Z
LAST-MODIFIED:20241003T222257Z
UID:13603-1743465600-1743551999@fishcreekkidsacademy.com
SUMMARY:Fun at Work Day
DESCRIPTION:
URL:https://fishcreekkidsacademy.com/event/fun-at-work-day/
CATEGORIES:FCKA Events
END:VEVENT
BEGIN:VEVENT
DTSTART;VALUE=DATE:20250401
DTEND;VALUE=DATE:20250501
DTSTAMP:20260420T035846
CREATED:20241003T223139Z
LAST-MODIFIED:20241003T223154Z
UID:13625-1743465600-1746057599@fishcreekkidsacademy.com
SUMMARY:Graduation Pictures: TBA
DESCRIPTION:
URL:https://fishcreekkidsacademy.com/event/graduation-pictures-tba/
CATEGORIES:FCKA Events
END:VEVENT
BEGIN:VEVENT
DTSTART;TZID=America/Chicago:20250401T103000
DTEND;TZID=America/Chicago:20250401T110000
DTSTAMP:20260420T035846
CREATED:20250401T195202Z
LAST-MODIFIED:20250401T195202Z
UID:14505-1743503400-1743505200@fishcreekkidsacademy.com
SUMMARY:Dance your Heart out
DESCRIPTION:
URL:https://fishcreekkidsacademy.com/event/dance-your-heart-out-41/
CATEGORIES:FCKA Events
END:VEVENT
BEGIN:VEVENT
DTSTART;TZID=America/Chicago:20250402T090000
DTEND;TZID=America/Chicago:20250402T103000
DTSTAMP:20260420T035846
CREATED:20250401T195919Z
LAST-MODIFIED:20250401T195919Z
UID:14515-1743584400-1743589800@fishcreekkidsacademy.com
SUMMARY:Soccer Shots
DESCRIPTION:
URL:https://fishcreekkidsacademy.com/event/soccer-shots-46/
CATEGORIES:FCKA Events
END:VEVENT
BEGIN:VEVENT
DTSTART;VALUE=DATE:20250403
DTEND;VALUE=DATE:20250404
DTSTAMP:20260420T035846
CREATED:20241003T222344Z
LAST-MODIFIED:20241003T222344Z
UID:13605-1743638400-1743724799@fishcreekkidsacademy.com
SUMMARY:Find a Rainbow Day
DESCRIPTION:
URL:https://fishcreekkidsacademy.com/event/find-a-rainbow-day-2/
CATEGORIES:FCKA Events
END:VEVENT
BEGIN:VEVENT
DTSTART;VALUE=DATE:20250403
DTEND;VALUE=DATE:20250404
DTSTAMP:20260420T035846
CREATED:20250224T170647Z
LAST-MODIFIED:20250224T170647Z
UID:14197-1743638400-1743724799@fishcreekkidsacademy.com
SUMMARY:Ask Your Child's Teacher Where to Find The Weekly Lesson Plans
DESCRIPTION:
URL:https://fishcreekkidsacademy.com/event/ask-your-childs-teacher-where-to-find-the-weekly-lesson-plans-2/
CATEGORIES:FCKA Events
END:VEVENT
BEGIN:VEVENT
DTSTART;VALUE=DATE:20250404
DTEND;VALUE=DATE:20250405
DTSTAMP:20260420T035846
CREATED:20250224T170448Z
LAST-MODIFIED:20250224T170749Z
UID:14195-1743724800-1743811199@fishcreekkidsacademy.com
SUMMARY:Ticket Shop Wednesdays
DESCRIPTION:
URL:https://fishcreekkidsacademy.com/event/ticket-shop-wednesdays-2/
CATEGORIES:FCKA Events
END:VEVENT
BEGIN:VEVENT
DTSTART;TZID=America/Chicago:20250404T100000
DTEND;TZID=America/Chicago:20250404T101500
DTSTAMP:20260420T035846
CREATED:20250401T200510Z
LAST-MODIFIED:20250401T200510Z
UID:14525-1743760800-1743761700@fishcreekkidsacademy.com
SUMMARY:Assembly
DESCRIPTION:
URL:https://fishcreekkidsacademy.com/event/assembly-41/
CATEGORIES:FCKA Events
END:VEVENT
BEGIN:VEVENT
DTSTART;VALUE=DATE:20250407
DTEND;VALUE=DATE:20250408
DTSTAMP:20260420T035846
CREATED:20250401T201508Z
LAST-MODIFIED:20250401T201508Z
UID:14539-1743984000-1744070399@fishcreekkidsacademy.com
SUMMARY:Flowers and Plants
DESCRIPTION:
URL:https://fishcreekkidsacademy.com/event/flowers-and-plants/
CATEGORIES:FCKA Events
END:VEVENT
BEGIN:VEVENT
DTSTART;TZID=America/Chicago:20250408T103000
DTEND;TZID=America/Chicago:20250408T110000
DTSTAMP:20260420T035846
CREATED:20250401T195315Z
LAST-MODIFIED:20250401T195315Z
UID:14507-1744108200-1744110000@fishcreekkidsacademy.com
SUMMARY:Dance your Heart out
DESCRIPTION:
URL:https://fishcreekkidsacademy.com/event/dance-your-heart-out-42/
CATEGORIES:FCKA Events
END:VEVENT
BEGIN:VEVENT
DTSTART;TZID=America/Chicago:20250409T090000
DTEND;TZID=America/Chicago:20250409T103000
DTSTAMP:20260420T035846
CREATED:20250401T200019Z
LAST-MODIFIED:20250401T200019Z
UID:14517-1744189200-1744194600@fishcreekkidsacademy.com
SUMMARY:Soccer Shots
DESCRIPTION:
URL:https://fishcreekkidsacademy.com/event/soccer-shots-47/
CATEGORIES:FCKA Events
END:VEVENT
BEGIN:VEVENT
DTSTART;TZID=America/Chicago:20250411T100000
DTEND;TZID=America/Chicago:20250411T101500
DTSTAMP:20260420T035846
CREATED:20250401T200551Z
LAST-MODIFIED:20250401T200551Z
UID:14527-1744365600-1744366500@fishcreekkidsacademy.com
SUMMARY:Assembly
DESCRIPTION:
URL:https://fishcreekkidsacademy.com/event/assembly-42/
CATEGORIES:FCKA Events
END:VEVENT
BEGIN:VEVENT
DTSTART;VALUE=DATE:20250412
DTEND;VALUE=DATE:20250413
DTSTAMP:20260420T035846
CREATED:20241003T222425Z
LAST-MODIFIED:20241003T222425Z
UID:13607-1744416000-1744502399@fishcreekkidsacademy.com
SUMMARY:Mandatory Staff Training
DESCRIPTION:
URL:https://fishcreekkidsacademy.com/event/mandatory-staff-training-4/
CATEGORIES:FCKA Events
END:VEVENT
BEGIN:VEVENT
DTSTART;VALUE=DATE:20250414
DTEND;VALUE=DATE:20250415
DTSTAMP:20260420T035846
CREATED:20241003T222504Z
LAST-MODIFIED:20241003T222504Z
UID:13609-1744588800-1744675199@fishcreekkidsacademy.com
SUMMARY:Gardening Day
DESCRIPTION:
URL:https://fishcreekkidsacademy.com/event/gardening-day/
CATEGORIES:FCKA Events
END:VEVENT
BEGIN:VEVENT
DTSTART;VALUE=DATE:20250414
DTEND;VALUE=DATE:20250415
DTSTAMP:20260420T035846
CREATED:20250401T201447Z
LAST-MODIFIED:20250401T201447Z
UID:14537-1744588800-1744675199@fishcreekkidsacademy.com
SUMMARY:Natural Resources
DESCRIPTION:
URL:https://fishcreekkidsacademy.com/event/natural-resources/
CATEGORIES:FCKA Events
END:VEVENT
BEGIN:VEVENT
DTSTART;TZID=America/Chicago:20250415T103000
DTEND;TZID=America/Chicago:20250415T110000
DTSTAMP:20260420T035846
CREATED:20250401T195430Z
LAST-MODIFIED:20250401T195430Z
UID:14509-1744713000-1744714800@fishcreekkidsacademy.com
SUMMARY:Dance your Heart out
DESCRIPTION:
URL:https://fishcreekkidsacademy.com/event/dance-your-heart-out-43/
CATEGORIES:FCKA Events
END:VEVENT
BEGIN:VEVENT
DTSTART;VALUE=DATE:20250416
DTEND;VALUE=DATE:20250417
DTSTAMP:20260420T035846
CREATED:20250401T201302Z
LAST-MODIFIED:20250401T201302Z
UID:14533-1744761600-1744847999@fishcreekkidsacademy.com
SUMMARY:Project Due Today
DESCRIPTION:
URL:https://fishcreekkidsacademy.com/event/project-due-today-2/
CATEGORIES:FCKA Events
END:VEVENT
BEGIN:VEVENT
DTSTART;TZID=America/Chicago:20250416T090000
DTEND;TZID=America/Chicago:20250416T103000
DTSTAMP:20260420T035846
CREATED:20250401T200111Z
LAST-MODIFIED:20250401T200111Z
UID:14519-1744794000-1744799400@fishcreekkidsacademy.com
SUMMARY:Soccer Shots
DESCRIPTION:
URL:https://fishcreekkidsacademy.com/event/soccer-shots-48/
CATEGORIES:FCKA Events
END:VEVENT
BEGIN:VEVENT
DTSTART;VALUE=DATE:20250417
DTEND;VALUE=DATE:20250418
DTSTAMP:20260420T035846
CREATED:20241003T222539Z
LAST-MODIFIED:20241003T222615Z
UID:13611-1744848000-1744934399@fishcreekkidsacademy.com
SUMMARY:Breakfast with Easter Bunny and Easter Egg-Stravaganza
DESCRIPTION:
URL:https://fishcreekkidsacademy.com/event/breakfast-with-easter-bunny-and-easter-egg-stravaganza/
CATEGORIES:FCKA Events
END:VEVENT
BEGIN:VEVENT
DTSTART;VALUE=DATE:20250418
DTEND;VALUE=DATE:20250419
DTSTAMP:20260420T035846
CREATED:20241003T222658Z
LAST-MODIFIED:20241003T222722Z
UID:13613-1744934400-1745020799@fishcreekkidsacademy.com
SUMMARY:FCKA Closed—Good Friday
DESCRIPTION:
URL:https://fishcreekkidsacademy.com/event/fcka-closed-good-friday/
CATEGORIES:FCKA Events
END:VEVENT
BEGIN:VEVENT
DTSTART;VALUE=DATE:20250421
DTEND;VALUE=DATE:20250422
DTSTAMP:20260420T035846
CREATED:20241003T222807Z
LAST-MODIFIED:20241003T222807Z
UID:13615-1745193600-1745279999@fishcreekkidsacademy.com
SUMMARY:Montgomery & Conroe Out
DESCRIPTION:
URL:https://fishcreekkidsacademy.com/event/montgomery-conroe-out/
CATEGORIES:FCKA Events
END:VEVENT
BEGIN:VEVENT
DTSTART;VALUE=DATE:20250421
DTEND;VALUE=DATE:20250422
DTSTAMP:20260420T035846
CREATED:20250401T201422Z
LAST-MODIFIED:20250401T201422Z
UID:14535-1745193600-1745279999@fishcreekkidsacademy.com
SUMMARY:Our Planet Earth
DESCRIPTION:
URL:https://fishcreekkidsacademy.com/event/our-planet-earth/
CATEGORIES:FCKA Events
END:VEVENT
BEGIN:VEVENT
DTSTART;VALUE=DATE:20250422
DTEND;VALUE=DATE:20250423
DTSTAMP:20260420T035846
CREATED:20241003T222852Z
LAST-MODIFIED:20241003T222852Z
UID:13617-1745280000-1745366399@fishcreekkidsacademy.com
SUMMARY:Earth Day Celebrations
DESCRIPTION:
URL:https://fishcreekkidsacademy.com/event/earth-day-celebrations/
CATEGORIES:FCKA Events
END:VEVENT
BEGIN:VEVENT
DTSTART;TZID=America/Chicago:20250422T103000
DTEND;TZID=America/Chicago:20250422T110000
DTSTAMP:20260420T035846
CREATED:20250401T195534Z
LAST-MODIFIED:20250401T195534Z
UID:14511-1745317800-1745319600@fishcreekkidsacademy.com
SUMMARY:Dance your Heart out
DESCRIPTION:
URL:https://fishcreekkidsacademy.com/event/dance-your-heart-out-44/
CATEGORIES:FCKA Events
END:VEVENT
BEGIN:VEVENT
DTSTART;VALUE=DATE:20250423
DTEND;VALUE=DATE:20250424
DTSTAMP:20260420T035846
CREATED:20241003T222933Z
LAST-MODIFIED:20241003T222933Z
UID:13619-1745366400-1745452799@fishcreekkidsacademy.com
SUMMARY:National Picnic Day
DESCRIPTION:
URL:https://fishcreekkidsacademy.com/event/national-picnic-day/
CATEGORIES:FCKA Events
END:VEVENT
BEGIN:VEVENT
DTSTART;TZID=America/Chicago:20250423T090000
DTEND;TZID=America/Chicago:20250423T103000
DTSTAMP:20260420T035846
CREATED:20250401T200223Z
LAST-MODIFIED:20250401T200223Z
UID:14521-1745398800-1745404200@fishcreekkidsacademy.com
SUMMARY:Soccer Shots
DESCRIPTION:
URL:https://fishcreekkidsacademy.com/event/soccer-shots-49/
CATEGORIES:FCKA Events
END:VEVENT
BEGIN:VEVENT
DTSTART;TZID=America/Chicago:20250425T100000
DTEND;TZID=America/Chicago:20250425T101500
DTSTAMP:20260420T035846
CREATED:20250401T200629Z
LAST-MODIFIED:20250401T200629Z
UID:14529-1745575200-1745576100@fishcreekkidsacademy.com
SUMMARY:Assembly
DESCRIPTION:
URL:https://fishcreekkidsacademy.com/event/assembly-43/
CATEGORIES:FCKA Events
END:VEVENT
BEGIN:VEVENT
DTSTART;VALUE=DATE:20250428
DTEND;VALUE=DATE:20250429
DTSTAMP:20260420T035846
CREATED:20241003T223002Z
LAST-MODIFIED:20241003T223002Z
UID:13621-1745798400-1745884799@fishcreekkidsacademy.com
SUMMARY:Superhero Dress Up Day
DESCRIPTION:
URL:https://fishcreekkidsacademy.com/event/superhero-dress-up-day/
CATEGORIES:FCKA Events
END:VEVENT
BEGIN:VEVENT
DTSTART;TZID=America/Chicago:20250429T103000
DTEND;TZID=America/Chicago:20250429T110000
DTSTAMP:20260420T035846
CREATED:20250401T195622Z
LAST-MODIFIED:20250401T195622Z
UID:14513-1745922600-1745924400@fishcreekkidsacademy.com
SUMMARY:Dance your Heart out
DESCRIPTION:
URL:https://fishcreekkidsacademy.com/event/dance-your-heart-out-45/
CATEGORIES:FCKA Events
END:VEVENT
BEGIN:VEVENT
DTSTART;VALUE=DATE:20250430
DTEND;VALUE=DATE:20250501
DTSTAMP:20260420T035846
CREATED:20241003T223048Z
LAST-MODIFIED:20241003T223048Z
UID:13623-1745971200-1746057599@fishcreekkidsacademy.com
SUMMARY:National Zipper Day
DESCRIPTION:
URL:https://fishcreekkidsacademy.com/event/national-zipper-day/
CATEGORIES:FCKA Events
END:VEVENT
END:VCALENDAR