BEGIN:VCALENDAR
VERSION:2.0
PRODID:-//Fish Creek Kids Academy - ECPv6.15.20//NONSGML v1.0//EN
CALSCALE:GREGORIAN
METHOD:PUBLISH
X-ORIGINAL-URL:https://fishcreekkidsacademy.com
X-WR-CALDESC:Events for Fish Creek Kids Academy
REFRESH-INTERVAL;VALUE=DURATION:PT1H
X-Robots-Tag:noindex
X-PUBLISHED-TTL:PT1H
BEGIN:VTIMEZONE
TZID:America/Chicago
BEGIN:DAYLIGHT
TZOFFSETFROM:-0600
TZOFFSETTO:-0500
TZNAME:CDT
DTSTART:20240310T080000
END:DAYLIGHT
BEGIN:STANDARD
TZOFFSETFROM:-0500
TZOFFSETTO:-0600
TZNAME:CST
DTSTART:20241103T070000
END:STANDARD
BEGIN:DAYLIGHT
TZOFFSETFROM:-0600
TZOFFSETTO:-0500
TZNAME:CDT
DTSTART:20250309T080000
END:DAYLIGHT
BEGIN:STANDARD
TZOFFSETFROM:-0500
TZOFFSETTO:-0600
TZNAME:CST
DTSTART:20251102T070000
END:STANDARD
BEGIN:DAYLIGHT
TZOFFSETFROM:-0600
TZOFFSETTO:-0500
TZNAME:CDT
DTSTART:20260308T080000
END:DAYLIGHT
BEGIN:STANDARD
TZOFFSETFROM:-0500
TZOFFSETTO:-0600
TZNAME:CST
DTSTART:20261101T070000
END:STANDARD
END:VTIMEZONE
BEGIN:VEVENT
DTSTART;VALUE=DATE:20250601
DTEND;VALUE=DATE:20250602
DTSTAMP:20260420T003147
CREATED:20250306T232945Z
LAST-MODIFIED:20250306T232945Z
UID:14338-1748736000-1748822399@fishcreekkidsacademy.com
SUMMARY:Summer KickOff Luau - All Day Festivities
DESCRIPTION:
URL:https://fishcreekkidsacademy.com/event/summer-kickoff-luau-all-day-festivities/
CATEGORIES:FCKA Events
END:VEVENT
BEGIN:VEVENT
DTSTART;VALUE=DATE:20250602
DTEND;VALUE=DATE:20250603
DTSTAMP:20260420T003147
CREATED:20250306T233054Z
LAST-MODIFIED:20250306T233054Z
UID:14340-1748822400-1748908799@fishcreekkidsacademy.com
SUMMARY:Ancient Civiliaztions
DESCRIPTION:
URL:https://fishcreekkidsacademy.com/event/ancient-civiliaztions/
CATEGORIES:FCKA Events
END:VEVENT
BEGIN:VEVENT
DTSTART;VALUE=DATE:20250602
DTEND;VALUE=DATE:20250603
DTSTAMP:20260420T003147
CREATED:20250306T233310Z
LAST-MODIFIED:20250306T233310Z
UID:14342-1748822400-1748908799@fishcreekkidsacademy.com
SUMMARY:Hieroglyphics
DESCRIPTION:
URL:https://fishcreekkidsacademy.com/event/hieroglyphics/
CATEGORIES:FCKA Events
END:VEVENT
BEGIN:VEVENT
DTSTART;TZID=America/Chicago:20250603T093000
DTEND;TZID=America/Chicago:20250603T133000
DTSTAMP:20260420T003147
CREATED:20250306T233416Z
LAST-MODIFIED:20250306T233416Z
UID:14344-1748943000-1748957400@fishcreekkidsacademy.com
SUMMARY:Pool Seniors
DESCRIPTION:
URL:https://fishcreekkidsacademy.com/event/pool-seniors/
CATEGORIES:FCKA Events
END:VEVENT
BEGIN:VEVENT
DTSTART;TZID=America/Chicago:20250603T150000
DTEND;TZID=America/Chicago:20250603T160000
DTSTAMP:20260420T003147
CREATED:20250306T233520Z
LAST-MODIFIED:20250306T233626Z
UID:14346-1748962800-1748966400@fishcreekkidsacademy.com
SUMMARY:Building Pyramids
DESCRIPTION:
URL:https://fishcreekkidsacademy.com/event/building-pyramids/
CATEGORIES:FCKA Events
END:VEVENT
BEGIN:VEVENT
DTSTART;TZID=America/Chicago:20250604T090000
DTEND;TZID=America/Chicago:20250604T130000
DTSTAMP:20260420T003147
CREATED:20250306T233721Z
LAST-MODIFIED:20250306T233721Z
UID:14348-1749027600-1749042000@fishcreekkidsacademy.com
SUMMARY:Spring Creek Park
DESCRIPTION:
URL:https://fishcreekkidsacademy.com/event/spring-creek-park/
CATEGORIES:FCKA Events
END:VEVENT
BEGIN:VEVENT
DTSTART;TZID=America/Chicago:20250604T150000
DTEND;TZID=America/Chicago:20250604T160000
DTSTAMP:20260420T003147
CREATED:20250306T233811Z
LAST-MODIFIED:20250306T233811Z
UID:14350-1749049200-1749052800@fishcreekkidsacademy.com
SUMMARY:Mummy Wraps
DESCRIPTION:
URL:https://fishcreekkidsacademy.com/event/mummy-wraps/
CATEGORIES:FCKA Events
END:VEVENT
BEGIN:VEVENT
DTSTART;TZID=America/Chicago:20250605T073000
DTEND;TZID=America/Chicago:20250605T153000
DTSTAMP:20260420T003147
CREATED:20250306T234009Z
LAST-MODIFIED:20250306T234009Z
UID:14352-1749108600-1749137400@fishcreekkidsacademy.com
SUMMARY:the Houston Museum of Natural Science
DESCRIPTION:King Tut’s Tomb
URL:https://fishcreekkidsacademy.com/event/the-houston-museum-of-natural-science/
CATEGORIES:FCKA Events
END:VEVENT
BEGIN:VEVENT
DTSTART;TZID=America/Chicago:20250606T100000
DTEND;TZID=America/Chicago:20250606T110000
DTSTAMP:20260420T003147
CREATED:20250306T234133Z
LAST-MODIFIED:20250306T234215Z
UID:14354-1749204000-1749207600@fishcreekkidsacademy.com
SUMMARY:Ancient Egyptian Collars
DESCRIPTION:
URL:https://fishcreekkidsacademy.com/event/ancient-egyptian-collars/
CATEGORIES:FCKA Events
END:VEVENT
BEGIN:VEVENT
DTSTART;TZID=America/Chicago:20250606T150000
DTEND;TZID=America/Chicago:20250606T160000
DTSTAMP:20260420T003147
CREATED:20250306T234348Z
LAST-MODIFIED:20250307T002850Z
UID:14356-1749222000-1749225600@fishcreekkidsacademy.com
SUMMARY:Card Competitions: War
DESCRIPTION:
URL:https://fishcreekkidsacademy.com/event/card-competitions/
CATEGORIES:FCKA Events
END:VEVENT
BEGIN:VEVENT
DTSTART;VALUE=DATE:20250609
DTEND;VALUE=DATE:20250610
DTSTAMP:20260420T003147
CREATED:20250307T001727Z
LAST-MODIFIED:20250307T001727Z
UID:14358-1749427200-1749513599@fishcreekkidsacademy.com
SUMMARY:The Stone Ages Team Building
DESCRIPTION:
URL:https://fishcreekkidsacademy.com/event/the-stone-ages-team-building/
CATEGORIES:FCKA Events
END:VEVENT
BEGIN:VEVENT
DTSTART;TZID=America/Chicago:20250609T150000
DTEND;TZID=America/Chicago:20250609T160000
DTSTAMP:20260420T003147
CREATED:20250307T001836Z
LAST-MODIFIED:20250307T001836Z
UID:14360-1749481200-1749484800@fishcreekkidsacademy.com
SUMMARY:Stone Jewelry Creations
DESCRIPTION:
URL:https://fishcreekkidsacademy.com/event/stone-jewelry-creations/
CATEGORIES:FCKA Events
END:VEVENT
BEGIN:VEVENT
DTSTART;TZID=America/Chicago:20250610T093000
DTEND;TZID=America/Chicago:20250610T133000
DTSTAMP:20260420T003147
CREATED:20250307T002053Z
LAST-MODIFIED:20250307T002053Z
UID:14362-1749547800-1749562200@fishcreekkidsacademy.com
SUMMARY:Pool Juniors
DESCRIPTION:
URL:https://fishcreekkidsacademy.com/event/pool-juniors/
CATEGORIES:FCKA Events
END:VEVENT
BEGIN:VEVENT
DTSTART;TZID=America/Chicago:20250610T150000
DTEND;TZID=America/Chicago:20250610T160000
DTSTAMP:20260420T003147
CREATED:20250307T002134Z
LAST-MODIFIED:20250307T002134Z
UID:14364-1749567600-1749571200@fishcreekkidsacademy.com
SUMMARY:Cave Paintings
DESCRIPTION:
URL:https://fishcreekkidsacademy.com/event/cave-paintings/
CATEGORIES:FCKA Events
END:VEVENT
BEGIN:VEVENT
DTSTART;TZID=America/Chicago:20250611T090000
DTEND;TZID=America/Chicago:20250611T133000
DTSTAMP:20260420T003147
CREATED:20250307T002225Z
LAST-MODIFIED:20250307T002225Z
UID:14366-1749632400-1749648600@fishcreekkidsacademy.com
SUMMARY:Discovery Green Seniors
DESCRIPTION:
URL:https://fishcreekkidsacademy.com/event/discovery-green-seniors/
CATEGORIES:FCKA Events
END:VEVENT
BEGIN:VEVENT
DTSTART;TZID=America/Chicago:20250611T090000
DTEND;TZID=America/Chicago:20250611T133000
DTSTAMP:20260420T003147
CREATED:20250307T002314Z
LAST-MODIFIED:20250307T002314Z
UID:14368-1749632400-1749648600@fishcreekkidsacademy.com
SUMMARY:7 Acre Wood Juniors
DESCRIPTION:
URL:https://fishcreekkidsacademy.com/event/7-acre-wood-juniors/
CATEGORIES:FCKA Events
END:VEVENT
BEGIN:VEVENT
DTSTART;TZID=America/Chicago:20250612T083000
DTEND;TZID=America/Chicago:20250612T153000
DTSTAMP:20260420T003147
CREATED:20250307T002609Z
LAST-MODIFIED:20250307T002609Z
UID:14370-1749717000-1749742200@fishcreekkidsacademy.com
SUMMARY:Seismique - The Art Experience of Tomorrow
DESCRIPTION:
URL:https://fishcreekkidsacademy.com/event/seismique-the-art-experience-of-tomorrow/
CATEGORIES:FCKA Events
END:VEVENT
BEGIN:VEVENT
DTSTART;TZID=America/Chicago:20250613T080000
DTEND;TZID=America/Chicago:20250613T093000
DTSTAMP:20260420T003147
CREATED:20250307T002721Z
LAST-MODIFIED:20250307T002721Z
UID:14372-1749801600-1749807000@fishcreekkidsacademy.com
SUMMARY:Donuts with Dad
DESCRIPTION:
URL:https://fishcreekkidsacademy.com/event/donuts-with-dad-2/
CATEGORIES:FCKA Events
END:VEVENT
BEGIN:VEVENT
DTSTART;TZID=America/Chicago:20250613T150000
DTEND;TZID=America/Chicago:20250613T160000
DTSTAMP:20260420T003147
CREATED:20250307T002822Z
LAST-MODIFIED:20250307T003005Z
UID:14374-1749826800-1749830400@fishcreekkidsacademy.com
SUMMARY:Card Competitions: Spoons
DESCRIPTION:
URL:https://fishcreekkidsacademy.com/event/card-competitions-spoons/
CATEGORIES:FCKA Events
END:VEVENT
BEGIN:VEVENT
DTSTART;VALUE=DATE:20250616
DTEND;VALUE=DATE:20250617
DTSTAMP:20260420T003147
CREATED:20250307T003355Z
LAST-MODIFIED:20250307T003355Z
UID:14385-1750032000-1750118399@fishcreekkidsacademy.com
SUMMARY:Ancient Greece & Rome Team Building
DESCRIPTION:
URL:https://fishcreekkidsacademy.com/event/ancient-greece-rome-team-building/
CATEGORIES:FCKA Events
END:VEVENT
BEGIN:VEVENT
DTSTART;TZID=America/Chicago:20250616T100000
DTEND;TZID=America/Chicago:20250616T110000
DTSTAMP:20260420T003147
CREATED:20250307T003438Z
LAST-MODIFIED:20250307T003438Z
UID:14387-1750068000-1750071600@fishcreekkidsacademy.com
SUMMARY:Ancient Clay Pottery
DESCRIPTION:
URL:https://fishcreekkidsacademy.com/event/ancient-clay-pottery/
CATEGORIES:FCKA Events
END:VEVENT
BEGIN:VEVENT
DTSTART;TZID=America/Chicago:20250616T150000
DTEND;TZID=America/Chicago:20250616T160000
DTSTAMP:20260420T003147
CREATED:20250307T003536Z
LAST-MODIFIED:20250307T003536Z
UID:14389-1750086000-1750089600@fishcreekkidsacademy.com
SUMMARY:Ancient Clay Pottery
DESCRIPTION:
URL:https://fishcreekkidsacademy.com/event/ancient-clay-pottery-2/
CATEGORIES:FCKA Events
END:VEVENT
BEGIN:VEVENT
DTSTART;TZID=America/Chicago:20250617T093000
DTEND;TZID=America/Chicago:20250617T133000
DTSTAMP:20260420T003147
CREATED:20250307T003753Z
LAST-MODIFIED:20250307T003753Z
UID:14395-1750152600-1750167000@fishcreekkidsacademy.com
SUMMARY:Pool Seniors
DESCRIPTION:
URL:https://fishcreekkidsacademy.com/event/pool-seniors-2/
CATEGORIES:FCKA Events
END:VEVENT
BEGIN:VEVENT
DTSTART;TZID=America/Chicago:20250617T150000
DTEND;TZID=America/Chicago:20250617T160000
DTSTAMP:20260420T003147
CREATED:20250307T003844Z
LAST-MODIFIED:20250307T003844Z
UID:14397-1750172400-1750176000@fishcreekkidsacademy.com
SUMMARY:Giant Catapults
DESCRIPTION:
URL:https://fishcreekkidsacademy.com/event/giant-catapults/
CATEGORIES:FCKA Events
END:VEVENT
BEGIN:VEVENT
DTSTART;TZID=America/Chicago:20250618T083000
DTEND;TZID=America/Chicago:20250618T143000
DTSTAMP:20260420T003147
CREATED:20250307T003959Z
LAST-MODIFIED:20250307T003959Z
UID:14399-1750235400-1750257000@fishcreekkidsacademy.com
SUMMARY:Lone Star Flight Museum
DESCRIPTION:
URL:https://fishcreekkidsacademy.com/event/lone-star-flight-museum/
CATEGORIES:FCKA Events
END:VEVENT
BEGIN:VEVENT
DTSTART;TZID=America/Chicago:20250618T150000
DTEND;TZID=America/Chicago:20250618T160000
DTSTAMP:20260420T003147
CREATED:20250307T004042Z
LAST-MODIFIED:20250307T004042Z
UID:14401-1750258800-1750262400@fishcreekkidsacademy.com
SUMMARY:Roman Mosiacs
DESCRIPTION:
URL:https://fishcreekkidsacademy.com/event/roman-mosiacs/
CATEGORIES:FCKA Events
END:VEVENT
BEGIN:VEVENT
DTSTART;TZID=America/Chicago:20250619T090000
DTEND;TZID=America/Chicago:20250619T120000
DTSTAMP:20260420T003147
CREATED:20250307T004123Z
LAST-MODIFIED:20250307T004123Z
UID:14403-1750323600-1750334400@fishcreekkidsacademy.com
SUMMARY:Field Day
DESCRIPTION:
URL:https://fishcreekkidsacademy.com/event/field-day-2/
CATEGORIES:FCKA Events
END:VEVENT
BEGIN:VEVENT
DTSTART;TZID=America/Chicago:20250620T100000
DTEND;TZID=America/Chicago:20250620T110000
DTSTAMP:20260420T003147
CREATED:20250307T003222Z
LAST-MODIFIED:20250307T003222Z
UID:14381-1750413600-1750417200@fishcreekkidsacademy.com
SUMMARY:Paper Tube Trojan Horse
DESCRIPTION:
URL:https://fishcreekkidsacademy.com/event/paper-tube-trojan-horse/
CATEGORIES:FCKA Events
END:VEVENT
BEGIN:VEVENT
DTSTART;TZID=America/Chicago:20250620T150000
DTEND;TZID=America/Chicago:20250620T160000
DTSTAMP:20260420T003147
CREATED:20250307T002926Z
LAST-MODIFIED:20250307T002926Z
UID:14377-1750431600-1750435200@fishcreekkidsacademy.com
SUMMARY:Card Competitions: Go Fish
DESCRIPTION:
URL:https://fishcreekkidsacademy.com/event/card-competitions-go-fish/
CATEGORIES:FCKA Events
END:VEVENT
BEGIN:VEVENT
DTSTART;VALUE=DATE:20250623
DTEND;VALUE=DATE:20250624
DTSTAMP:20260420T003147
CREATED:20250307T003611Z
LAST-MODIFIED:20250307T003611Z
UID:14391-1750636800-1750723199@fishcreekkidsacademy.com
SUMMARY:Middle Ages Team Building
DESCRIPTION:
URL:https://fishcreekkidsacademy.com/event/middle-ages-team-building/
CATEGORIES:FCKA Events
END:VEVENT
END:VCALENDAR