BEGIN:VCALENDAR
VERSION:2.0
PRODID:-//Fish Creek Kids Academy - ECPv6.15.20//NONSGML v1.0//EN
CALSCALE:GREGORIAN
METHOD:PUBLISH
X-ORIGINAL-URL:https://fishcreekkidsacademy.com
X-WR-CALDESC:Events for Fish Creek Kids Academy
REFRESH-INTERVAL;VALUE=DURATION:PT1H
X-Robots-Tag:noindex
X-PUBLISHED-TTL:PT1H
BEGIN:VTIMEZONE
TZID:America/Chicago
BEGIN:DAYLIGHT
TZOFFSETFROM:-0600
TZOFFSETTO:-0500
TZNAME:CDT
DTSTART:20240310T080000
END:DAYLIGHT
BEGIN:STANDARD
TZOFFSETFROM:-0500
TZOFFSETTO:-0600
TZNAME:CST
DTSTART:20241103T070000
END:STANDARD
BEGIN:DAYLIGHT
TZOFFSETFROM:-0600
TZOFFSETTO:-0500
TZNAME:CDT
DTSTART:20250309T080000
END:DAYLIGHT
BEGIN:STANDARD
TZOFFSETFROM:-0500
TZOFFSETTO:-0600
TZNAME:CST
DTSTART:20251102T070000
END:STANDARD
BEGIN:DAYLIGHT
TZOFFSETFROM:-0600
TZOFFSETTO:-0500
TZNAME:CDT
DTSTART:20260308T080000
END:DAYLIGHT
BEGIN:STANDARD
TZOFFSETFROM:-0500
TZOFFSETTO:-0600
TZNAME:CST
DTSTART:20261101T070000
END:STANDARD
END:VTIMEZONE
BEGIN:VEVENT
DTSTART;VALUE=DATE:20250811
DTEND;VALUE=DATE:20250812
DTSTAMP:20260419T203856
CREATED:20250808T164417Z
LAST-MODIFIED:20250808T164417Z
UID:14723-1754870400-1754956799@fishcreekkidsacademy.com
SUMMARY:Back to School Magnolia
DESCRIPTION:
URL:https://fishcreekkidsacademy.com/event/back-to-school-magnolia/
CATEGORIES:FCKA Events
END:VEVENT
BEGIN:VEVENT
DTSTART;VALUE=DATE:20250812
DTEND;VALUE=DATE:20250813
DTSTAMP:20260419T203856
CREATED:20250808T164616Z
LAST-MODIFIED:20250808T164616Z
UID:14727-1754956800-1755043199@fishcreekkidsacademy.com
SUMMARY:Nancy Fancys Ceramics
DESCRIPTION:
URL:https://fishcreekkidsacademy.com/event/nancy-fancys-ceramics/
CATEGORIES:FCKA Events
END:VEVENT
BEGIN:VEVENT
DTSTART;VALUE=DATE:20250813
DTEND;VALUE=DATE:20250814
DTSTAMP:20260419T203856
CREATED:20250808T164453Z
LAST-MODIFIED:20250808T164453Z
UID:14725-1755043200-1755129599@fishcreekkidsacademy.com
SUMMARY:Back to School Conroe
DESCRIPTION:
URL:https://fishcreekkidsacademy.com/event/back-to-school-conroe/
CATEGORIES:FCKA Events
END:VEVENT
BEGIN:VEVENT
DTSTART;VALUE=DATE:20250814
DTEND;VALUE=DATE:20250815
DTSTAMP:20260419T203856
CREATED:20250808T164322Z
LAST-MODIFIED:20250808T164340Z
UID:14721-1755129600-1755215999@fishcreekkidsacademy.com
SUMMARY:MISD Back to School
DESCRIPTION:
URL:https://fishcreekkidsacademy.com/event/misd-back-to-school/
CATEGORIES:FCKA Events
END:VEVENT
BEGIN:VEVENT
DTSTART;TZID=America/Chicago:20250815T150000
DTEND;TZID=America/Chicago:20250815T160000
DTSTAMP:20260419T203856
CREATED:20250808T164706Z
LAST-MODIFIED:20250808T164706Z
UID:14729-1755270000-1755273600@fishcreekkidsacademy.com
SUMMARY:Ready to Snack - Special Snack
DESCRIPTION:
URL:https://fishcreekkidsacademy.com/event/ready-to-snack-special-snack/
CATEGORIES:FCKA Events
END:VEVENT
BEGIN:VEVENT
DTSTART;VALUE=DATE:20250818
DTEND;VALUE=DATE:20250819
DTSTAMP:20260419T203856
CREATED:20250808T164808Z
LAST-MODIFIED:20250808T165109Z
UID:14731-1755475200-1755561599@fishcreekkidsacademy.com
SUMMARY:Sneak Peek into the Future Life 2050
DESCRIPTION:
URL:https://fishcreekkidsacademy.com/event/sneak-peek-into-the-future-life-2050/
CATEGORIES:FCKA Events
END:VEVENT
BEGIN:VEVENT
DTSTART;TZID=America/Chicago:20250819T100000
DTEND;TZID=America/Chicago:20250819T110000
DTSTAMP:20260419T203856
CREATED:20250808T164901Z
LAST-MODIFIED:20250808T164901Z
UID:14733-1755597600-1755601200@fishcreekkidsacademy.com
SUMMARY:Futuristic Zumba
DESCRIPTION:
URL:https://fishcreekkidsacademy.com/event/futuristic-zumba/
CATEGORIES:FCKA Events
END:VEVENT
BEGIN:VEVENT
DTSTART;VALUE=DATE:20250820
DTEND;VALUE=DATE:20250821
DTSTAMP:20260419T203856
CREATED:20250808T165146Z
LAST-MODIFIED:20250808T165146Z
UID:14735-1755648000-1755734399@fishcreekkidsacademy.com
SUMMARY:3D Printing Robots - all day
DESCRIPTION:
URL:https://fishcreekkidsacademy.com/event/3d-printing-robots-all-day/
CATEGORIES:FCKA Events
END:VEVENT
BEGIN:VEVENT
DTSTART;TZID=America/Chicago:20250821T100000
DTEND;TZID=America/Chicago:20250821T110000
DTSTAMP:20260419T203856
CREATED:20250808T165217Z
LAST-MODIFIED:20250808T165217Z
UID:14737-1755770400-1755774000@fishcreekkidsacademy.com
SUMMARY:Scribble Bots
DESCRIPTION:
URL:https://fishcreekkidsacademy.com/event/scribble-bots/
CATEGORIES:FCKA Events
END:VEVENT
BEGIN:VEVENT
DTSTART;TZID=America/Chicago:20250821T150000
DTEND;TZID=America/Chicago:20250821T160000
DTSTAMP:20260419T203856
CREATED:20250808T165248Z
LAST-MODIFIED:20250808T165248Z
UID:14739-1755788400-1755792000@fishcreekkidsacademy.com
SUMMARY:Paper Tube Robots
DESCRIPTION:
URL:https://fishcreekkidsacademy.com/event/paper-tube-robots/
CATEGORIES:FCKA Events
END:VEVENT
BEGIN:VEVENT
DTSTART;VALUE=DATE:20250825
DTEND;VALUE=DATE:20250826
DTSTAMP:20260419T203856
CREATED:20250808T165321Z
LAST-MODIFIED:20250808T165321Z
UID:14741-1756080000-1756166399@fishcreekkidsacademy.com
SUMMARY:Classroom Transitions all week
DESCRIPTION:
URL:https://fishcreekkidsacademy.com/event/classroom-transitions-all-week/
CATEGORIES:FCKA Events
END:VEVENT
BEGIN:VEVENT
DTSTART;TZID=America/Chicago:20250826T173000
DTEND;TZID=America/Chicago:20250826T183000
DTSTAMP:20260419T203856
CREATED:20250808T165413Z
LAST-MODIFIED:20250808T165413Z
UID:14743-1756229400-1756233000@fishcreekkidsacademy.com
SUMMARY:Kinder Readiness Program Only
DESCRIPTION:
URL:https://fishcreekkidsacademy.com/event/kinder-readiness-program-only/
CATEGORIES:FCKA Events
END:VEVENT
BEGIN:VEVENT
DTSTART;VALUE=DATE:20250827
DTEND;VALUE=DATE:20250828
DTSTAMP:20260419T203856
CREATED:20250808T165514Z
LAST-MODIFIED:20250808T165514Z
UID:14745-1756252800-1756339199@fishcreekkidsacademy.com
SUMMARY:New Classroom Photos
DESCRIPTION:
URL:https://fishcreekkidsacademy.com/event/new-classroom-photos/
CATEGORIES:FCKA Events
END:VEVENT
BEGIN:VEVENT
DTSTART;TZID=America/Chicago:20250828T150000
DTEND;TZID=America/Chicago:20250828T160000
DTSTAMP:20260419T203856
CREATED:20250808T165601Z
LAST-MODIFIED:20250808T165601Z
UID:14747-1756393200-1756396800@fishcreekkidsacademy.com
SUMMARY:Class Animal Craft
DESCRIPTION:
URL:https://fishcreekkidsacademy.com/event/class-animal-craft/
CATEGORIES:FCKA Events
END:VEVENT
BEGIN:VEVENT
DTSTART;TZID=America/Chicago:20250829T100000
DTEND;TZID=America/Chicago:20250829T101500
DTSTAMP:20260419T203856
CREATED:20250808T165634Z
LAST-MODIFIED:20250808T165634Z
UID:14749-1756461600-1756462500@fishcreekkidsacademy.com
SUMMARY:Assembly
DESCRIPTION:
URL:https://fishcreekkidsacademy.com/event/assembly-46/
CATEGORIES:FCKA Events
END:VEVENT
END:VCALENDAR