BEGIN:VCALENDAR
VERSION:2.0
PRODID:-//Fish Creek Kids Academy - ECPv6.15.20//NONSGML v1.0//EN
CALSCALE:GREGORIAN
METHOD:PUBLISH
X-WR-CALNAME:Fish Creek Kids Academy
X-ORIGINAL-URL:https://fishcreekkidsacademy.com
X-WR-CALDESC:Events for Fish Creek Kids Academy
REFRESH-INTERVAL;VALUE=DURATION:PT1H
X-Robots-Tag:noindex
X-PUBLISHED-TTL:PT1H
BEGIN:VTIMEZONE
TZID:America/Chicago
BEGIN:DAYLIGHT
TZOFFSETFROM:-0600
TZOFFSETTO:-0500
TZNAME:CDT
DTSTART:20240310T080000
END:DAYLIGHT
BEGIN:STANDARD
TZOFFSETFROM:-0500
TZOFFSETTO:-0600
TZNAME:CST
DTSTART:20241103T070000
END:STANDARD
BEGIN:DAYLIGHT
TZOFFSETFROM:-0600
TZOFFSETTO:-0500
TZNAME:CDT
DTSTART:20250309T080000
END:DAYLIGHT
BEGIN:STANDARD
TZOFFSETFROM:-0500
TZOFFSETTO:-0600
TZNAME:CST
DTSTART:20251102T070000
END:STANDARD
BEGIN:DAYLIGHT
TZOFFSETFROM:-0600
TZOFFSETTO:-0500
TZNAME:CDT
DTSTART:20260308T080000
END:DAYLIGHT
BEGIN:STANDARD
TZOFFSETFROM:-0500
TZOFFSETTO:-0600
TZNAME:CST
DTSTART:20261101T070000
END:STANDARD
END:VTIMEZONE
BEGIN:VEVENT
DTSTART;VALUE=DATE:20250901
DTEND;VALUE=DATE:20250902
DTSTAMP:20260419T184358
CREATED:20250612T223929Z
LAST-MODIFIED:20250612T224007Z
UID:14609-1756684800-1756771199@fishcreekkidsacademy.com
SUMMARY:Labor Day - FCKA Closed
DESCRIPTION:All ISD’S Closed
URL:https://fishcreekkidsacademy.com/event/labor-day-fcka-closed-2/
CATEGORIES:FCKA Events
END:VEVENT
BEGIN:VEVENT
DTSTART;VALUE=DATE:20250902
DTEND;VALUE=DATE:20250903
DTSTAMP:20260419T184358
CREATED:20250911T145655Z
LAST-MODIFIED:20250911T145655Z
UID:14758-1756771200-1756857599@fishcreekkidsacademy.com
SUMMARY:Dance Demo
DESCRIPTION:
URL:https://fishcreekkidsacademy.com/event/dance-demo-2/
CATEGORIES:FCKA Events
END:VEVENT
BEGIN:VEVENT
DTSTART;TZID=America/Chicago:20250903T090000
DTEND;TZID=America/Chicago:20250903T103000
DTSTAMP:20260419T184358
CREATED:20250911T145901Z
LAST-MODIFIED:20250911T145901Z
UID:14762-1756890000-1756895400@fishcreekkidsacademy.com
SUMMARY:Soccer Shots
DESCRIPTION:
URL:https://fishcreekkidsacademy.com/event/soccer-shots/
CATEGORIES:FCKA Events
END:VEVENT
BEGIN:VEVENT
DTSTART;VALUE=DATE:20250905
DTEND;VALUE=DATE:20250906
DTSTAMP:20260419T184358
CREATED:20250612T224043Z
LAST-MODIFIED:20250612T224043Z
UID:14612-1757030400-1757116799@fishcreekkidsacademy.com
SUMMARY:Grandparents Gifts
DESCRIPTION:
URL:https://fishcreekkidsacademy.com/event/grandparents-gifts-2/
CATEGORIES:FCKA Events
END:VEVENT
BEGIN:VEVENT
DTSTART;VALUE=DATE:20250908
DTEND;VALUE=DATE:20250909
DTSTAMP:20260419T184358
CREATED:20250911T150226Z
LAST-MODIFIED:20250911T150226Z
UID:14766-1757289600-1757375999@fishcreekkidsacademy.com
SUMMARY:Beach Day
DESCRIPTION:
URL:https://fishcreekkidsacademy.com/event/beach-day/
CATEGORIES:FCKA Events
END:VEVENT
BEGIN:VEVENT
DTSTART;VALUE=DATE:20250908
DTEND;VALUE=DATE:20250909
DTSTAMP:20260419T184358
CREATED:20250911T150255Z
LAST-MODIFIED:20250911T150255Z
UID:14768-1757289600-1757375999@fishcreekkidsacademy.com
SUMMARY:Theme- all about me
DESCRIPTION:
URL:https://fishcreekkidsacademy.com/event/theme-all-about-me/
CATEGORIES:FCKA Events
END:VEVENT
BEGIN:VEVENT
DTSTART;VALUE=DATE:20250908
DTEND;VALUE=DATE:20250913
DTSTAMP:20260419T184358
CREATED:20250612T224321Z
LAST-MODIFIED:20250612T224321Z
UID:14614-1757289600-1757721599@fishcreekkidsacademy.com
SUMMARY:FCKA Spirit Week - Dress up everyday
DESCRIPTION:See event calendar for details
URL:https://fishcreekkidsacademy.com/event/fcka-spirit-week-dress-up-everyday-2/
CATEGORIES:FCKA Events
END:VEVENT
BEGIN:VEVENT
DTSTART;VALUE=DATE:20250909
DTEND;VALUE=DATE:20250910
DTSTAMP:20260419T184358
CREATED:20250911T150313Z
LAST-MODIFIED:20250911T150313Z
UID:14770-1757376000-1757462399@fishcreekkidsacademy.com
SUMMARY:Cowboy Day
DESCRIPTION:
URL:https://fishcreekkidsacademy.com/event/cowboy-day/
CATEGORIES:FCKA Events
END:VEVENT
BEGIN:VEVENT
DTSTART;TZID=America/Chicago:20250909T103000
DTEND;TZID=America/Chicago:20250909T110000
DTSTAMP:20260419T184358
CREATED:20250911T150541Z
LAST-MODIFIED:20250911T150541Z
UID:14778-1757413800-1757415600@fishcreekkidsacademy.com
SUMMARY:Dance Your Heart Out
DESCRIPTION:
URL:https://fishcreekkidsacademy.com/event/dance-your-heart-out-47/
CATEGORIES:FCKA Events
END:VEVENT
BEGIN:VEVENT
DTSTART;VALUE=DATE:20250910
DTEND;VALUE=DATE:20250911
DTSTAMP:20260419T184358
CREATED:20250911T150341Z
LAST-MODIFIED:20250911T150341Z
UID:14772-1757462400-1757548799@fishcreekkidsacademy.com
SUMMARY:Denim and Diamonds Day
DESCRIPTION:
URL:https://fishcreekkidsacademy.com/event/denim-and-diamonds-day/
CATEGORIES:FCKA Events
END:VEVENT
BEGIN:VEVENT
DTSTART;TZID=America/Chicago:20250910T090000
DTEND;TZID=America/Chicago:20250910T103000
DTSTAMP:20260419T184358
CREATED:20250911T150753Z
LAST-MODIFIED:20250911T150753Z
UID:14780-1757494800-1757500200@fishcreekkidsacademy.com
SUMMARY:Soccer Shots
DESCRIPTION:
URL:https://fishcreekkidsacademy.com/event/soccer-shots-53/
CATEGORIES:FCKA Events
END:VEVENT
BEGIN:VEVENT
DTSTART;VALUE=DATE:20250911
DTEND;VALUE=DATE:20250912
DTSTAMP:20260419T184358
CREATED:20250911T150404Z
LAST-MODIFIED:20250911T150404Z
UID:14774-1757548800-1757635199@fishcreekkidsacademy.com
SUMMARY:Sports Day
DESCRIPTION:
URL:https://fishcreekkidsacademy.com/event/sports-day/
CATEGORIES:FCKA Events
END:VEVENT
BEGIN:VEVENT
DTSTART;VALUE=DATE:20250912
DTEND;VALUE=DATE:20250913
DTSTAMP:20260419T184358
CREATED:20250911T150430Z
LAST-MODIFIED:20250911T150430Z
UID:14776-1757635200-1757721599@fishcreekkidsacademy.com
SUMMARY:School Spirit Day
DESCRIPTION:
URL:https://fishcreekkidsacademy.com/event/school-spirit-day/
CATEGORIES:FCKA Events
END:VEVENT
BEGIN:VEVENT
DTSTART;TZID=America/Chicago:20250912T100000
DTEND;TZID=America/Chicago:20250912T101500
DTSTAMP:20260419T184358
CREATED:20250911T150827Z
LAST-MODIFIED:20250911T150827Z
UID:14782-1757671200-1757672100@fishcreekkidsacademy.com
SUMMARY:Assembly
DESCRIPTION:
URL:https://fishcreekkidsacademy.com/event/assembly/
CATEGORIES:FCKA Events
END:VEVENT
BEGIN:VEVENT
DTSTART;VALUE=DATE:20250915
DTEND;VALUE=DATE:20250916
DTSTAMP:20260419T184358
CREATED:20250911T150900Z
LAST-MODIFIED:20250911T150900Z
UID:14784-1757894400-1757980799@fishcreekkidsacademy.com
SUMMARY:Theme-Family
DESCRIPTION:
URL:https://fishcreekkidsacademy.com/event/theme-family/
CATEGORIES:FCKA Events
END:VEVENT
BEGIN:VEVENT
DTSTART;TZID=America/Chicago:20250916T103000
DTEND;TZID=America/Chicago:20250916T110000
DTSTAMP:20260419T184358
CREATED:20250911T151140Z
LAST-MODIFIED:20250911T151140Z
UID:14792-1758018600-1758020400@fishcreekkidsacademy.com
SUMMARY:Dance Your Heart Out
DESCRIPTION:
URL:https://fishcreekkidsacademy.com/event/dance-your-heart-out-48/
CATEGORIES:FCKA Events
END:VEVENT
BEGIN:VEVENT
DTSTART;TZID=America/Chicago:20250917T090000
DTEND;TZID=America/Chicago:20250917T103000
DTSTAMP:20260419T184358
CREATED:20250911T151326Z
LAST-MODIFIED:20250911T151326Z
UID:14798-1758099600-1758105000@fishcreekkidsacademy.com
SUMMARY:Soccer Shots
DESCRIPTION:
URL:https://fishcreekkidsacademy.com/event/soccer-shots-54/
CATEGORIES:FCKA Events
END:VEVENT
BEGIN:VEVENT
DTSTART;VALUE=DATE:20250919
DTEND;VALUE=DATE:20250920
DTSTAMP:20260419T184358
CREATED:20250612T224415Z
LAST-MODIFIED:20250612T224415Z
UID:14616-1758240000-1758326399@fishcreekkidsacademy.com
SUMMARY:Magnolia ISD Out
DESCRIPTION:
URL:https://fishcreekkidsacademy.com/event/magnolia-isd-out-4/
CATEGORIES:FCKA Events,Magnolia ISD Out
END:VEVENT
BEGIN:VEVENT
DTSTART;VALUE=DATE:20250919
DTEND;VALUE=DATE:20250920
DTSTAMP:20260419T184358
CREATED:20250612T224458Z
LAST-MODIFIED:20250612T224458Z
UID:14618-1758240000-1758326399@fishcreekkidsacademy.com
SUMMARY:Dress Up -Batman/Batgirl
DESCRIPTION:
URL:https://fishcreekkidsacademy.com/event/dress-up-batman-batgirl-2/
CATEGORIES:FCKA Events
END:VEVENT
BEGIN:VEVENT
DTSTART;VALUE=DATE:20250919
DTEND;VALUE=DATE:20250920
DTSTAMP:20260419T184358
CREATED:20250911T151909Z
LAST-MODIFIED:20250911T151909Z
UID:14802-1758240000-1758326399@fishcreekkidsacademy.com
SUMMARY:Batman and Batgirl Dress Up
DESCRIPTION:
URL:https://fishcreekkidsacademy.com/event/batman-and-batgirl-dress-up/
CATEGORIES:FCKA Events
END:VEVENT
BEGIN:VEVENT
DTSTART;TZID=America/Chicago:20250919T100000
DTEND;TZID=America/Chicago:20250919T101500
DTSTAMP:20260419T184358
CREATED:20250911T151945Z
LAST-MODIFIED:20250911T151945Z
UID:14804-1758276000-1758276900@fishcreekkidsacademy.com
SUMMARY:Assembly
DESCRIPTION:
URL:https://fishcreekkidsacademy.com/event/assembly-2/
CATEGORIES:FCKA Events
END:VEVENT
BEGIN:VEVENT
DTSTART;VALUE=DATE:20250922
DTEND;VALUE=DATE:20250923
DTSTAMP:20260419T184358
CREATED:20250911T151027Z
LAST-MODIFIED:20250911T151027Z
UID:14788-1758499200-1758585599@fishcreekkidsacademy.com
SUMMARY:Theme- Tall Tales
DESCRIPTION:
URL:https://fishcreekkidsacademy.com/event/theme-tall-tales/
CATEGORIES:FCKA Events
END:VEVENT
BEGIN:VEVENT
DTSTART;VALUE=DATE:20250922
DTEND;VALUE=DATE:20250927
DTSTAMP:20260419T184358
CREATED:20250612T224554Z
LAST-MODIFIED:20250612T224554Z
UID:14622-1758499200-1758931199@fishcreekkidsacademy.com
SUMMARY:9th Annual Line Art Show
DESCRIPTION:
URL:https://fishcreekkidsacademy.com/event/9th-annual-line-art-show/
CATEGORIES:FCKA Events
END:VEVENT
BEGIN:VEVENT
DTSTART;TZID=America/Chicago:20250923T103000
DTEND;TZID=America/Chicago:20250923T110000
DTSTAMP:20260419T184358
CREATED:20250911T151202Z
LAST-MODIFIED:20250911T151202Z
UID:14794-1758623400-1758625200@fishcreekkidsacademy.com
SUMMARY:Dance Your Heart Out
DESCRIPTION:
URL:https://fishcreekkidsacademy.com/event/dance-your-heart-out-49/
CATEGORIES:FCKA Events
END:VEVENT
BEGIN:VEVENT
DTSTART;TZID=America/Chicago:20250924T090000
DTEND;TZID=America/Chicago:20250924T103000
DTSTAMP:20260419T184358
CREATED:20250911T151356Z
LAST-MODIFIED:20250911T151356Z
UID:14800-1758704400-1758709800@fishcreekkidsacademy.com
SUMMARY:Soccer Shots
DESCRIPTION:
URL:https://fishcreekkidsacademy.com/event/soccer-shots-55/
CATEGORIES:FCKA Events
END:VEVENT
BEGIN:VEVENT
DTSTART;VALUE=DATE:20250926
DTEND;VALUE=DATE:20250927
DTSTAMP:20260419T184358
CREATED:20250612T224524Z
LAST-MODIFIED:20250612T224524Z
UID:14620-1758844800-1758931199@fishcreekkidsacademy.com
SUMMARY:John Appleseed Day
DESCRIPTION:
URL:https://fishcreekkidsacademy.com/event/john-appleseed-day/
CATEGORIES:FCKA Events
END:VEVENT
BEGIN:VEVENT
DTSTART;TZID=America/Chicago:20250926T100000
DTEND;TZID=America/Chicago:20250926T101500
DTSTAMP:20260419T184358
CREATED:20250911T152016Z
LAST-MODIFIED:20250911T152016Z
UID:14806-1758880800-1758881700@fishcreekkidsacademy.com
SUMMARY:Assembly
DESCRIPTION:
URL:https://fishcreekkidsacademy.com/event/assembly-47/
CATEGORIES:FCKA Events
END:VEVENT
BEGIN:VEVENT
DTSTART;VALUE=DATE:20250929
DTEND;VALUE=DATE:20250930
DTSTAMP:20260419T184358
CREATED:20250911T151004Z
LAST-MODIFIED:20250911T151004Z
UID:14786-1759104000-1759190399@fishcreekkidsacademy.com
SUMMARY:Treat Your Teacher to National Coffee Day
DESCRIPTION:
URL:https://fishcreekkidsacademy.com/event/treat-your-teacher-to-national-coffee-day/
CATEGORIES:FCKA Events
END:VEVENT
BEGIN:VEVENT
DTSTART;VALUE=DATE:20250929
DTEND;VALUE=DATE:20250930
DTSTAMP:20260419T184358
CREATED:20250911T151053Z
LAST-MODIFIED:20250911T151053Z
UID:14790-1759104000-1759190399@fishcreekkidsacademy.com
SUMMARY:Theme: Apples
DESCRIPTION:
URL:https://fishcreekkidsacademy.com/event/theme-apples/
CATEGORIES:FCKA Events
END:VEVENT
BEGIN:VEVENT
DTSTART;VALUE=DATE:20250930
DTEND;VALUE=DATE:20251001
DTSTAMP:20260419T184358
CREATED:20250612T224620Z
LAST-MODIFIED:20250612T224620Z
UID:14624-1759190400-1759276799@fishcreekkidsacademy.com
SUMMARY:Boy Assessments Due
DESCRIPTION:
URL:https://fishcreekkidsacademy.com/event/boy-assessments-due-2/
CATEGORIES:FCKA Events
END:VEVENT
END:VCALENDAR